|SUCCESS| pw125011-125010 [PATCH] [2/2] test: add rawdev to fast tests

dpdklab at iol.unh.edu dpdklab at iol.unh.edu
Fri Mar 10 23:17:18 CET 2023


Test-Label: iol-aarch64-unit-testing
Test-Status: SUCCESS
http://dpdk.org/patch/125010

_Testing PASS_

Submitter: David Marchand <david.marchand at redhat.com>
Date: Friday, March 10 2023 14:26:04 
DPDK git baseline: Repo:dpdk
  Branch: master
  CommitID:fc54766b1612b29c75fd39bd015f27dd57feec5f

125011-125010 --> testing pass

Test environment and result as below:

+-------------------------------+----------------+--------------+------------------------------+---------------------------+
|          Environment          | dpdk_unit_test | lpm_autotest | cryptodev_sw_snow3g_autotest | cryptodev_sw_zuc_autotest |
+===============================+================+==============+==============================+===========================+
| Ubuntu 20.04 ARM GCC Native   | PASS           | SKIPPED      | SKIPPED                      | SKIPPED                   |
+-------------------------------+----------------+--------------+------------------------------+---------------------------+
| Ubuntu 20.04 ARM Clang Native | PASS           | SKIPPED      | SKIPPED                      | SKIPPED                   |
+-------------------------------+----------------+--------------+------------------------------+---------------------------+
| Ubuntu 20.04 ARM SVE          | SKIPPED        | PASS         | SKIPPED                      | SKIPPED                   |
+-------------------------------+----------------+--------------+------------------------------+---------------------------+
| Debian 11                     | SKIPPED        | SKIPPED      | PASS                         | PASS                      |
+-------------------------------+----------------+--------------+------------------------------+---------------------------+


Ubuntu 20.04 ARM GCC Native
	Kernel: 5.4.0-53-generic
	Compiler: gcc 9.3

Ubuntu 20.04 ARM Clang Native
	Kernel: 5.4.0-53-generic
	Compiler: clang 10.0.0-4ubuntu1

Ubuntu 20.04 ARM SVE
	Kernel: 5.4.0-80-generic
	Compiler: gcc 10.3.0 (Ubuntu 10.3.0-1ubuntu1~20.04)

Debian 11
	Kernel: Container Host Kernel
	Compiler: gcc 10.2.1

To view detailed results, visit:
https://lab.dpdk.org/results/dashboard/patchsets/25685/

UNH-IOL DPDK Community Lab

To manage your email subscriptions, visit: 
https://lab.dpdk.org/results/dashboard/preferences/subscriptions/


More information about the test-report mailing list