|SUCCESS| pw124889 [PATCH] doc: deprecation notice to remove LiquidIO ethdev driver

dpdklab at iol.unh.edu dpdklab at iol.unh.edu
Sat Mar 11 03:59:49 CET 2023


Test-Label: iol-aarch64-unit-testing
Test-Status: SUCCESS
http://dpdk.org/patch/124889

_Testing PASS_

Submitter: Jerin Jacob Kollanukkaran <jerinj at marvell.com>
Date: Thursday, March 09 2023 07:07:33 
DPDK git baseline: Repo:dpdk
  Branch: master
  CommitID:b15d75b2872efce397d827dac78692a919358302

124889 --> testing pass

Test environment and result as below:

+-------------------------------+----------------+--------------+---------------------------+------------------------------+
|          Environment          | dpdk_unit_test | lpm_autotest | cryptodev_sw_zuc_autotest | cryptodev_sw_snow3g_autotest |
+===============================+================+==============+===========================+==============================+
| Ubuntu 20.04 ARM GCC Native   | PASS           | SKIPPED      | SKIPPED                   | SKIPPED                      |
+-------------------------------+----------------+--------------+---------------------------+------------------------------+
| Ubuntu 20.04 ARM Clang Native | PASS           | SKIPPED      | SKIPPED                   | SKIPPED                      |
+-------------------------------+----------------+--------------+---------------------------+------------------------------+
| Ubuntu 20.04 ARM SVE          | SKIPPED        | PASS         | SKIPPED                   | SKIPPED                      |
+-------------------------------+----------------+--------------+---------------------------+------------------------------+
| Debian 11                     | SKIPPED        | SKIPPED      | PASS                      | PASS                         |
+-------------------------------+----------------+--------------+---------------------------+------------------------------+


Ubuntu 20.04 ARM GCC Native
	Kernel: 5.4.0-53-generic
	Compiler: gcc 9.3

Ubuntu 20.04 ARM Clang Native
	Kernel: 5.4.0-53-generic
	Compiler: clang 10.0.0-4ubuntu1

Ubuntu 20.04 ARM SVE
	Kernel: 5.4.0-80-generic
	Compiler: gcc 10.3.0 (Ubuntu 10.3.0-1ubuntu1~20.04)

Debian 11
	Kernel: Container Host Kernel
	Compiler: gcc 10.2.1

To view detailed results, visit:
https://lab.dpdk.org/results/dashboard/patchsets/25656/

UNH-IOL DPDK Community Lab

To manage your email subscriptions, visit: 
https://lab.dpdk.org/results/dashboard/preferences/subscriptions/


More information about the test-report mailing list