|SUCCESS| pw125136 [PATCH] net/iavf: fix VLAN Tx in AVX512
dpdklab at iol.unh.edu
dpdklab at iol.unh.edu
Wed Mar 15 13:30:22 CET 2023
Test-Label: iol-aarch64-unit-testing
Test-Status: SUCCESS
http://dpdk.org/patch/125136
_Testing PASS_
Submitter: Zhichao Zeng <zhichaox.zeng at intel.com>
Date: Wednesday, March 15 2023 08:46:17
DPDK git baseline: Repo:dpdk
Branch: master
CommitID:baf13c3135d0c5998fff7edc23fb89412dc89246
125136 --> testing pass
Test environment and result as below:
+-------------------------------+---------------------------+------------------------------+--------------+----------------+
| Environment | cryptodev_sw_zuc_autotest | cryptodev_sw_snow3g_autotest | lpm_autotest | dpdk_unit_test |
+===============================+===========================+==============================+==============+================+
| Debian 11 | PASS | PASS | SKIPPED | SKIPPED |
+-------------------------------+---------------------------+------------------------------+--------------+----------------+
| Ubuntu 20.04 ARM SVE | SKIPPED | SKIPPED | PASS | SKIPPED |
+-------------------------------+---------------------------+------------------------------+--------------+----------------+
| Ubuntu 20.04 ARM GCC Native | SKIPPED | SKIPPED | SKIPPED | PASS |
+-------------------------------+---------------------------+------------------------------+--------------+----------------+
| Ubuntu 20.04 ARM Clang Native | SKIPPED | SKIPPED | SKIPPED | PASS |
+-------------------------------+---------------------------+------------------------------+--------------+----------------+
Debian 11
Kernel: Container Host Kernel
Compiler: gcc 10.2.1
Ubuntu 20.04 ARM SVE
Kernel: 5.4.0-80-generic
Compiler: gcc 10.3.0 (Ubuntu 10.3.0-1ubuntu1~20.04)
Ubuntu 20.04 ARM GCC Native
Kernel: 5.4.0-53-generic
Compiler: gcc 9.3
Ubuntu 20.04 ARM Clang Native
Kernel: 5.4.0-53-generic
Compiler: clang 10.0.0-4ubuntu1
To view detailed results, visit:
https://lab.dpdk.org/results/dashboard/patchsets/25742/
UNH-IOL DPDK Community Lab
To manage your email subscriptions, visit:
https://lab.dpdk.org/results/dashboard/preferences/subscriptions/
More information about the test-report
mailing list