|SUCCESS| pw125564 [PATCH] [v2] app/testpmd: set srv6 header without any TLV
dpdklab at iol.unh.edu
dpdklab at iol.unh.edu
Wed Mar 29 02:26:00 CEST 2023
Test-Label: iol-aarch64-unit-testing
Test-Status: SUCCESS
http://dpdk.org/patch/125564
_Testing PASS_
Submitter: Rongwei Liu <rongweil at nvidia.com>
Date: Tuesday, March 28 2023 12:27:42
DPDK git baseline: Repo:dpdk
Branch: master
CommitID:9e3223adfab71bc88e9ba67c520b87c529d34a35
125564 --> testing pass
Test environment and result as below:
+-------------------------------+------------------------------+----------------+---------------------------+--------------+
| Environment | cryptodev_sw_snow3g_autotest | dpdk_unit_test | cryptodev_sw_zuc_autotest | lpm_autotest |
+===============================+==============================+================+===========================+==============+
| Debian 11 | PASS | SKIPPED | PASS | SKIPPED |
+-------------------------------+------------------------------+----------------+---------------------------+--------------+
| Ubuntu 20.04 ARM GCC Native | SKIPPED | PASS | SKIPPED | SKIPPED |
+-------------------------------+------------------------------+----------------+---------------------------+--------------+
| Ubuntu 20.04 ARM Clang Native | SKIPPED | PASS | SKIPPED | SKIPPED |
+-------------------------------+------------------------------+----------------+---------------------------+--------------+
| Ubuntu 20.04 ARM SVE | SKIPPED | SKIPPED | SKIPPED | PASS |
+-------------------------------+------------------------------+----------------+---------------------------+--------------+
Debian 11
Kernel: Container Host Kernel
Compiler: gcc 10.2.1
Ubuntu 20.04 ARM GCC Native
Kernel: 5.4.0-53-generic
Compiler: gcc 9.3
Ubuntu 20.04 ARM Clang Native
Kernel: 5.4.0-53-generic
Compiler: clang 10.0.0-4ubuntu1
Ubuntu 20.04 ARM SVE
Kernel: 5.4.0-80-generic
Compiler: gcc 10.3.0 (Ubuntu 10.3.0-1ubuntu1~20.04)
To view detailed results, visit:
https://lab.dpdk.org/results/dashboard/patchsets/25880/
UNH-IOL DPDK Community Lab
To manage your email subscriptions, visit:
https://lab.dpdk.org/results/dashboard/preferences/subscriptions/
More information about the test-report
mailing list