|SUCCESS| pw125591 [PATCH] maintainers: update for FIPS validation

dpdklab at iol.unh.edu dpdklab at iol.unh.edu
Wed Mar 29 13:59:52 CEST 2023


Test-Label: iol-aarch64-unit-testing
Test-Status: SUCCESS
http://dpdk.org/patch/125591

_Testing PASS_

Submitter: Gowrishankar Muthukrishnan <gmuthukrishn at marvell.com>
Date: Wednesday, March 29 2023 11:01:06 
DPDK git baseline: Repo:dpdk
  Branch: master
  CommitID:c682c8991963be243dcc3b7cdc9d6984a1961f4e

125591 --> testing pass

Test environment and result as below:

+-------------------------------+--------------+----------------+------------------------------+---------------------------+
|          Environment          | lpm_autotest | dpdk_unit_test | cryptodev_sw_snow3g_autotest | cryptodev_sw_zuc_autotest |
+===============================+==============+================+==============================+===========================+
| Ubuntu 20.04 ARM SVE          | PASS         | SKIPPED        | SKIPPED                      | SKIPPED                   |
+-------------------------------+--------------+----------------+------------------------------+---------------------------+
| Ubuntu 20.04 ARM GCC Native   | SKIPPED      | PASS           | SKIPPED                      | SKIPPED                   |
+-------------------------------+--------------+----------------+------------------------------+---------------------------+
| Ubuntu 20.04 ARM Clang Native | SKIPPED      | PASS           | SKIPPED                      | SKIPPED                   |
+-------------------------------+--------------+----------------+------------------------------+---------------------------+
| Debian 11                     | SKIPPED      | SKIPPED        | PASS                         | PASS                      |
+-------------------------------+--------------+----------------+------------------------------+---------------------------+


Ubuntu 20.04 ARM SVE
	Kernel: 5.4.0-80-generic
	Compiler: gcc 10.3.0 (Ubuntu 10.3.0-1ubuntu1~20.04)

Ubuntu 20.04 ARM GCC Native
	Kernel: 5.4.0-53-generic
	Compiler: gcc 9.3

Ubuntu 20.04 ARM Clang Native
	Kernel: 5.4.0-53-generic
	Compiler: clang 10.0.0-4ubuntu1

Debian 11
	Kernel: Container Host Kernel
	Compiler: gcc 10.2.1

To view detailed results, visit:
https://lab.dpdk.org/results/dashboard/patchsets/25886/

UNH-IOL DPDK Community Lab

To manage your email subscriptions, visit: 
https://lab.dpdk.org/results/dashboard/preferences/subscriptions/


More information about the test-report mailing list