|SUCCESS| pw125675 [PATCH] [v1] dts: update dependencies and mypy execution

dpdklab at iol.unh.edu dpdklab at iol.unh.edu
Fri Mar 31 12:06:31 CEST 2023


Test-Label: iol-aarch64-unit-testing
Test-Status: SUCCESS
http://dpdk.org/patch/125675

_Testing PASS_

Submitter: Juraj Linkes <juraj.linkes at pantheon.tech>
Date: Friday, March 31 2023 09:13:55 
DPDK git baseline: Repo:dpdk
  Branch: master
  CommitID:c682c8991963be243dcc3b7cdc9d6984a1961f4e

125675 --> testing pass

Test environment and result as below:

+----------------------+---------------------------+--------------+------------------------------+
|     Environment      | cryptodev_sw_zuc_autotest | lpm_autotest | cryptodev_sw_snow3g_autotest |
+======================+===========================+==============+==============================+
| Debian 11            | PASS                      | SKIPPED      | PASS                         |
+----------------------+---------------------------+--------------+------------------------------+
| Ubuntu 20.04 ARM SVE | SKIPPED                   | PASS         | SKIPPED                      |
+----------------------+---------------------------+--------------+------------------------------+


Debian 11
	Kernel: Container Host Kernel
	Compiler: gcc 10.2.1

Ubuntu 20.04 ARM SVE
	Kernel: 5.4.0-80-generic
	Compiler: gcc 10.3.0 (Ubuntu 10.3.0-1ubuntu1~20.04)

To view detailed results, visit:
https://lab.dpdk.org/results/dashboard/patchsets/25894/

UNH-IOL DPDK Community Lab

To manage your email subscriptions, visit: 
https://lab.dpdk.org/results/dashboard/preferences/subscriptions/


More information about the test-report mailing list