|SUCCESS| pw133724 [PATCH] [v3] net/ice: fix crash on closing repres
    dpdklab at iol.unh.edu 
    dpdklab at iol.unh.edu
       
    Wed Nov  1 16:25:09 CET 2023
    
    
  
Test-Label: iol-unit-arm64-testing
Test-Status: SUCCESS
http://dpdk.org/patch/133724
_Testing PASS_
Submitter: Mingjin Ye <mingjinx.ye at intel.com>
Date: Wednesday, November 01 2023 10:13:47 
DPDK git baseline: Repo:dpdk
  Branch: master
  CommitID:1025bd1c24b1be70e028c7ba0595782bce75fcc6
133724 --> testing pass
Test environment and result as below:
+--------------------------+----------------+---------------------------+------------------------------+
|       Environment        | dpdk_unit_test | cryptodev_sw_zuc_autotest | cryptodev_sw_snow3g_autotest |
+==========================+================+===========================+==============================+
| Debian 11 (Buster) (ARM) | PASS           | SKIPPED                   | SKIPPED                      |
+--------------------------+----------------+---------------------------+------------------------------+
| Fedora 37 (ARM)          | PASS           | SKIPPED                   | SKIPPED                      |
+--------------------------+----------------+---------------------------+------------------------------+
| CentOS Stream 9 (ARM)    | PASS           | SKIPPED                   | SKIPPED                      |
+--------------------------+----------------+---------------------------+------------------------------+
| Fedora 38 (ARM)          | PASS           | SKIPPED                   | SKIPPED                      |
+--------------------------+----------------+---------------------------+------------------------------+
| Fedora 38 (ARM Clang)    | PASS           | SKIPPED                   | SKIPPED                      |
+--------------------------+----------------+---------------------------+------------------------------+
| Debian 11 (arm)          | SKIPPED        | PASS                      | PASS                         |
+--------------------------+----------------+---------------------------+------------------------------+
Debian 11 (Buster) (ARM)
	Kernel: Container Host Kernel
	Compiler: gcc 10.2.1
Fedora 37 (ARM)
	Kernel: Depends on container host
	Compiler: gcc 12.3.1
CentOS Stream 9 (ARM)
	Kernel: Container Host Kernel
	Compiler: gcc 11.3.1
Fedora 38 (ARM)
	Kernel: Depends on container host
	Compiler: gcc 13.1.1
Fedora 38 (ARM Clang)
	Kernel: Depends on container host
	Compiler: clang 16.0.3
Debian 11 (arm)
	Kernel: Container Host Kernel
	Compiler: gcc 10.2.1
To view detailed results, visit:
https://lab.dpdk.org/results/dashboard/patchsets/28179/
UNH-IOL DPDK Community Lab
To manage your email subscriptions, visit: 
https://lab.dpdk.org/results/dashboard/preferences/subscriptions/
    
    
More information about the test-report
mailing list