|SUCCESS| pw133793 [PATCH] [v8] devtools: add script to check for no

dpdklab at iol.unh.edu dpdklab at iol.unh.edu
Thu Nov 2 22:51:08 CET 2023


Test-Label: iol-unit-arm64-testing
Test-Status: SUCCESS
http://dpdk.org/patch/133793

_Testing PASS_

Submitter: Stephen Hemminger <stephen at networkplumber.org>
Date: Thursday, November 02 2023 20:57:44 
DPDK git baseline: Repo:dpdk
  Branch: master
  CommitID:1025bd1c24b1be70e028c7ba0595782bce75fcc6

133793 --> testing pass

Test environment and result as below:

+--------------------------+------------------------------+----------------+--------------+
|       Environment        | cryptodev_sw_snow3g_autotest | dpdk_unit_test | lpm_autotest |
+==========================+==============================+================+==============+
| Debian 11 (arm)          | PASS                         | SKIPPED        | SKIPPED      |
+--------------------------+------------------------------+----------------+--------------+
| Debian 11 (Buster) (ARM) | SKIPPED                      | PASS           | SKIPPED      |
+--------------------------+------------------------------+----------------+--------------+
| CentOS Stream 9 (ARM)    | SKIPPED                      | PASS           | SKIPPED      |
+--------------------------+------------------------------+----------------+--------------+
| Ubuntu 20.04 ARM SVE     | SKIPPED                      | SKIPPED        | PASS         |
+--------------------------+------------------------------+----------------+--------------+


Debian 11 (arm)
	Kernel: Container Host Kernel
	Compiler: gcc 10.2.1

Debian 11 (Buster) (ARM)
	Kernel: Container Host Kernel
	Compiler: gcc 10.2.1

CentOS Stream 9 (ARM)
	Kernel: Container Host Kernel
	Compiler: gcc 11.3.1

Ubuntu 20.04 ARM SVE
	Kernel: 5.4.0-80-generic
	Compiler: gcc 10.3.0 (Ubuntu 10.3.0-1ubuntu1~20.04)

To view detailed results, visit:
https://lab.dpdk.org/results/dashboard/patchsets/28208/

UNH-IOL DPDK Community Lab

To manage your email subscriptions, visit: 
https://lab.dpdk.org/results/dashboard/preferences/subscriptions/


More information about the test-report mailing list