|SUCCESS| [GIT MASTER] e9555aad006a739de9ae2a14a94128931634eea0
    dpdklab at iol.unh.edu 
    dpdklab at iol.unh.edu
       
    Fri Nov  3 02:17:32 CET 2023
    
    
  
_Testing PASS_
Branch: dpdk
e9555aad006a739de9ae2a14a94128931634eea0 --> testing pass
Test environment and result as below:
+--------------------------+------------------------------+----------------+--------------+
|       Environment        | cryptodev_sw_snow3g_autotest | dpdk_unit_test | lpm_autotest |
+==========================+==============================+================+==============+
| Debian 11 (arm)          | PASS                         | SKIPPED        | SKIPPED      |
+--------------------------+------------------------------+----------------+--------------+
| CentOS Stream 9 (ARM)    | SKIPPED                      | PASS           | SKIPPED      |
+--------------------------+------------------------------+----------------+--------------+
| Debian 11 (Buster) (ARM) | SKIPPED                      | PASS           | SKIPPED      |
+--------------------------+------------------------------+----------------+--------------+
| Fedora 37 (ARM)          | SKIPPED                      | PASS           | SKIPPED      |
+--------------------------+------------------------------+----------------+--------------+
| Ubuntu 20.04 ARM SVE     | SKIPPED                      | SKIPPED        | PASS         |
+--------------------------+------------------------------+----------------+--------------+
Debian 11 (arm)
	Kernel: Container Host Kernel
	Compiler: gcc 10.2.1
CentOS Stream 9 (ARM)
	Kernel: Container Host Kernel
	Compiler: gcc 11.3.1
Debian 11 (Buster) (ARM)
	Kernel: Container Host Kernel
	Compiler: gcc 10.2.1
Fedora 37 (ARM)
	Kernel: Depends on container host
	Compiler: gcc 12.3.1
Ubuntu 20.04 ARM SVE
	Kernel: 5.4.0-80-generic
	Compiler: gcc 10.3.0 (Ubuntu 10.3.0-1ubuntu1~20.04)
To view detailed results, visit:
https://lab.dpdk.org/results/dashboard/tarballs/26800/
UNH-IOL DPDK Community Lab
To manage your email subscriptions, visit: 
https://lab.dpdk.org/results/dashboard/preferences/subscriptions/
    
    
More information about the test-report
mailing list