|SUCCESS| pw133799-133805 [PATCH] [v3,7/7] Section 6: Glossary
    dpdklab at iol.unh.edu 
    dpdklab at iol.unh.edu
       
    Fri Nov  3 11:24:43 CET 2023
    
    
  
Test-Label: iol-unit-amd64-testing
Test-Status: SUCCESS
http://dpdk.org/patch/133805
_Testing PASS_
Submitter: David Young <dave at youngcopy.com>
Date: Friday, November 03 2023 04:01:53 
DPDK git baseline: Repo:dpdk
  Branch: master
  CommitID:e9555aad006a739de9ae2a14a94128931634eea0
133799-133805 --> testing pass
Test environment and result as below:
+-----------------+----------------+
|   Environment   | dpdk_unit_test |
+=================+================+
| CentOS Stream 9 | PASS           |
+-----------------+----------------+
| Debian Bullseye | PASS           |
+-----------------+----------------+
| CentOS Stream 8 | PASS           |
+-----------------+----------------+
| Fedora 37       | PASS           |
+-----------------+----------------+
| Fedora 38       | PASS           |
+-----------------+----------------+
| Debian Buster   | PASS           |
+-----------------+----------------+
CentOS Stream 9
	Kernel: 4.18.0-240.10.1.el8_3.x86_64
	Compiler: gcc 11.3.1 20220421
Debian Bullseye
	Kernel: 5.4.0-122-generic
	Compiler: gcc 10.2.1-6
CentOS Stream 8
	Kernel: 4.18.0-240.10.1.el8_3.x86_64
	Compiler: gcc 8.4.1 20200928
Fedora 37
	Kernel: Depends on container host system
	Compiler: gcc 12.3.1
Fedora 38
	Kernel: Depends on container host
	Compiler: gcc 13.1.1
Debian Buster
	Kernel: 5.4.0-122-generic
	Compiler: gcc 8.3.0-6
To view detailed results, visit:
https://lab.dpdk.org/results/dashboard/patchsets/28213/
UNH-IOL DPDK Community Lab
To manage your email subscriptions, visit: 
https://lab.dpdk.org/results/dashboard/preferences/subscriptions/
    
    
More information about the test-report
mailing list