|SUCCESS| pw133818 [PATCH] [v3] examples/l2fwd-macsec: add MACsec fo

dpdklab at iol.unh.edu dpdklab at iol.unh.edu
Fri Nov 3 11:51:41 CET 2023


Test-Label: iol-unit-arm64-testing
Test-Status: SUCCESS
http://dpdk.org/patch/133818

_Testing PASS_

Submitter: Akhil Goyal <gakhil at marvell.com>
Date: Friday, November 03 2023 07:32:26 
DPDK git baseline: Repo:dpdk
  Branch: master
  CommitID:e9555aad006a739de9ae2a14a94128931634eea0

133818 --> testing pass

Test environment and result as below:

+--------------------------+---------------------------+----------------+------------------------------+
|       Environment        | cryptodev_sw_zuc_autotest | dpdk_unit_test | cryptodev_sw_snow3g_autotest |
+==========================+===========================+================+==============================+
| Debian 11 (arm)          | PASS                      | SKIPPED        | PASS                         |
+--------------------------+---------------------------+----------------+------------------------------+
| Debian 11 (Buster) (ARM) | SKIPPED                   | PASS           | SKIPPED                      |
+--------------------------+---------------------------+----------------+------------------------------+
| CentOS Stream 9 (ARM)    | SKIPPED                   | PASS           | SKIPPED                      |
+--------------------------+---------------------------+----------------+------------------------------+
| Fedora 38 (ARM)          | SKIPPED                   | PASS           | SKIPPED                      |
+--------------------------+---------------------------+----------------+------------------------------+
| Ubuntu 20.04 (ARM)       | SKIPPED                   | PASS           | SKIPPED                      |
+--------------------------+---------------------------+----------------+------------------------------+


Debian 11 (arm)
	Kernel: Container Host Kernel
	Compiler: gcc 10.2.1

Debian 11 (Buster) (ARM)
	Kernel: Container Host Kernel
	Compiler: gcc 10.2.1

CentOS Stream 9 (ARM)
	Kernel: Container Host Kernel
	Compiler: gcc 11.3.1

Fedora 38 (ARM)
	Kernel: Depends on container host
	Compiler: gcc 13.1.1

Ubuntu 20.04 (ARM)
	Kernel: Container Host Kernel
	Compiler: gcc 9.4.0

To view detailed results, visit:
https://lab.dpdk.org/results/dashboard/patchsets/28216/

UNH-IOL DPDK Community Lab

To manage your email subscriptions, visit: 
https://lab.dpdk.org/results/dashboard/preferences/subscriptions/


More information about the test-report mailing list