|SUCCESS| pw133836 [PATCH] doc/contributing: update RST text-wrappin

dpdklab at iol.unh.edu dpdklab at iol.unh.edu
Fri Nov 3 15:40:15 CET 2023


Test-Label: iol-unit-arm64-testing
Test-Status: SUCCESS
http://dpdk.org/patch/133836

_Testing PASS_

Submitter: Bruce Richardson <bruce.richardson at intel.com>
Date: Friday, November 03 2023 13:29:10 
DPDK git baseline: Repo:dpdk
  Branch: master
  CommitID:e9555aad006a739de9ae2a14a94128931634eea0

133836 --> testing pass

Test environment and result as below:

+-----------------------+--------------+----------------+
|      Environment      | lpm_autotest | dpdk_unit_test |
+=======================+==============+================+
| Ubuntu 20.04 ARM SVE  | PASS         | SKIPPED        |
+-----------------------+--------------+----------------+
| Fedora 37 (ARM)       | SKIPPED      | PASS           |
+-----------------------+--------------+----------------+
| CentOS Stream 9 (ARM) | SKIPPED      | PASS           |
+-----------------------+--------------+----------------+
| Fedora 38 (ARM)       | SKIPPED      | PASS           |
+-----------------------+--------------+----------------+


Ubuntu 20.04 ARM SVE
	Kernel: 5.4.0-80-generic
	Compiler: gcc 10.3.0 (Ubuntu 10.3.0-1ubuntu1~20.04)

Fedora 37 (ARM)
	Kernel: Depends on container host
	Compiler: gcc 12.3.1

CentOS Stream 9 (ARM)
	Kernel: Container Host Kernel
	Compiler: gcc 11.3.1

Fedora 38 (ARM)
	Kernel: Depends on container host
	Compiler: gcc 13.1.1

To view detailed results, visit:
https://lab.dpdk.org/results/dashboard/patchsets/28221/

UNH-IOL DPDK Community Lab

To manage your email subscriptions, visit: 
https://lab.dpdk.org/results/dashboard/preferences/subscriptions/


More information about the test-report mailing list