|SUCCESS| [GIT MASTER] 11e5ca63c77b355d0397f642989f28a7a0318cbc
    dpdklab at iol.unh.edu 
    dpdklab at iol.unh.edu
       
    Fri Nov  3 18:09:56 CET 2023
    
    
  
_Testing PASS_
Branch: dpdk-next-crypto
11e5ca63c77b355d0397f642989f28a7a0318cbc --> testing pass
Test environment and result as below:
+--------------------------+--------------+------------------------------+----------------+
|       Environment        | lpm_autotest | cryptodev_sw_snow3g_autotest | dpdk_unit_test |
+==========================+==============+==============================+================+
| Ubuntu 20.04 ARM SVE     | PASS         | SKIPPED                      | SKIPPED        |
+--------------------------+--------------+------------------------------+----------------+
| Debian 11 (arm)          | SKIPPED      | PASS                         | SKIPPED        |
+--------------------------+--------------+------------------------------+----------------+
| Debian 11 (Buster) (ARM) | SKIPPED      | SKIPPED                      | PASS           |
+--------------------------+--------------+------------------------------+----------------+
Ubuntu 20.04 ARM SVE
	Kernel: 5.4.0-80-generic
	Compiler: gcc 10.3.0 (Ubuntu 10.3.0-1ubuntu1~20.04)
Debian 11 (arm)
	Kernel: Container Host Kernel
	Compiler: gcc 10.2.1
Debian 11 (Buster) (ARM)
	Kernel: Container Host Kernel
	Compiler: gcc 10.2.1
To view detailed results, visit:
https://lab.dpdk.org/results/dashboard/tarballs/26813/
UNH-IOL DPDK Community Lab
To manage your email subscriptions, visit: 
https://lab.dpdk.org/results/dashboard/preferences/subscriptions/
    
    
More information about the test-report
mailing list