|SUCCESS| pw133849-133850 [PATCH] [v5,2/2] event/dlb2: fix disable P

dpdklab at iol.unh.edu dpdklab at iol.unh.edu
Fri Nov 3 21:45:28 CET 2023


Test-Label: iol-unit-arm64-testing
Test-Status: SUCCESS
http://dpdk.org/patch/133850

_Testing PASS_

Submitter: Abdullah Sevincer <abdullah.sevincer at intel.com>
Date: Friday, November 03 2023 17:52:04 
DPDK git baseline: Repo:dpdk
  Branch: master
  CommitID:e9555aad006a739de9ae2a14a94128931634eea0

133849-133850 --> testing pass

Test environment and result as below:

+-----------------------+--------------+---------------------------+----------------+
|      Environment      | lpm_autotest | cryptodev_sw_zuc_autotest | dpdk_unit_test |
+=======================+==============+===========================+================+
| Ubuntu 20.04 ARM SVE  | PASS         | SKIPPED                   | SKIPPED        |
+-----------------------+--------------+---------------------------+----------------+
| Debian 11 (arm)       | SKIPPED      | PASS                      | SKIPPED        |
+-----------------------+--------------+---------------------------+----------------+
| CentOS Stream 9 (ARM) | SKIPPED      | SKIPPED                   | PASS           |
+-----------------------+--------------+---------------------------+----------------+


Ubuntu 20.04 ARM SVE
	Kernel: 5.4.0-80-generic
	Compiler: gcc 10.3.0 (Ubuntu 10.3.0-1ubuntu1~20.04)

Debian 11 (arm)
	Kernel: Container Host Kernel
	Compiler: gcc 10.2.1

CentOS Stream 9 (ARM)
	Kernel: Container Host Kernel
	Compiler: gcc 11.3.1

To view detailed results, visit:
https://lab.dpdk.org/results/dashboard/patchsets/28232/

UNH-IOL DPDK Community Lab

To manage your email subscriptions, visit: 
https://lab.dpdk.org/results/dashboard/preferences/subscriptions/


More information about the test-report mailing list