|SUCCESS| pw133851-133852 [PATCH] [v6,2/2] event/dlb2: fix disable P
    dpdklab at iol.unh.edu 
    dpdklab at iol.unh.edu
       
    Sat Nov  4 03:05:57 CET 2023
    
    
  
Test-Label: iol-unit-arm64-testing
Test-Status: SUCCESS
http://dpdk.org/patch/133852
_Testing PASS_
Submitter: Abdullah Sevincer <abdullah.sevincer at intel.com>
Date: Friday, November 03 2023 18:29:33 
DPDK git baseline: Repo:dpdk
  Branch: master
  CommitID:e9555aad006a739de9ae2a14a94128931634eea0
133851-133852 --> testing pass
Test environment and result as below:
+--------------------------+--------------+----------------+------------------------------+---------------------------+
|       Environment        | lpm_autotest | dpdk_unit_test | cryptodev_sw_snow3g_autotest | cryptodev_sw_zuc_autotest |
+==========================+==============+================+==============================+===========================+
| Ubuntu 20.04 ARM SVE     | PASS         | SKIPPED        | SKIPPED                      | SKIPPED                   |
+--------------------------+--------------+----------------+------------------------------+---------------------------+
| Fedora 37 (ARM)          | SKIPPED      | PASS           | SKIPPED                      | SKIPPED                   |
+--------------------------+--------------+----------------+------------------------------+---------------------------+
| CentOS Stream 9 (ARM)    | SKIPPED      | PASS           | SKIPPED                      | SKIPPED                   |
+--------------------------+--------------+----------------+------------------------------+---------------------------+
| Debian 11 (Buster) (ARM) | SKIPPED      | PASS           | SKIPPED                      | SKIPPED                   |
+--------------------------+--------------+----------------+------------------------------+---------------------------+
| Ubuntu 20.04 (ARM)       | SKIPPED      | PASS           | SKIPPED                      | SKIPPED                   |
+--------------------------+--------------+----------------+------------------------------+---------------------------+
| Fedora 38 (ARM)          | SKIPPED      | PASS           | SKIPPED                      | SKIPPED                   |
+--------------------------+--------------+----------------+------------------------------+---------------------------+
| Debian 11 (arm)          | SKIPPED      | SKIPPED        | PASS                         | PASS                      |
+--------------------------+--------------+----------------+------------------------------+---------------------------+
Ubuntu 20.04 ARM SVE
	Kernel: 5.4.0-80-generic
	Compiler: gcc 10.3.0 (Ubuntu 10.3.0-1ubuntu1~20.04)
Fedora 37 (ARM)
	Kernel: Depends on container host
	Compiler: gcc 12.3.1
CentOS Stream 9 (ARM)
	Kernel: Container Host Kernel
	Compiler: gcc 11.3.1
Debian 11 (Buster) (ARM)
	Kernel: Container Host Kernel
	Compiler: gcc 10.2.1
Ubuntu 20.04 (ARM)
	Kernel: Container Host Kernel
	Compiler: gcc 9.4.0
Fedora 38 (ARM)
	Kernel: Depends on container host
	Compiler: gcc 13.1.1
Debian 11 (arm)
	Kernel: Container Host Kernel
	Compiler: gcc 10.2.1
To view detailed results, visit:
https://lab.dpdk.org/results/dashboard/patchsets/28233/
UNH-IOL DPDK Community Lab
To manage your email subscriptions, visit: 
https://lab.dpdk.org/results/dashboard/preferences/subscriptions/
    
    
More information about the test-report
mailing list