|SUCCESS| [GIT MASTER] 495846c12bfe4efeb9a44af4d844b1515c17e5fb
dpdklab at iol.unh.edu
dpdklab at iol.unh.edu
Sun Nov 5 02:39:56 CET 2023
_Testing PASS_
Branch: dpdk
495846c12bfe4efeb9a44af4d844b1515c17e5fb --> testing pass
Test environment and result as below:
+-----------------------+----------------+
| Environment | dpdk_unit_test |
+=======================+================+
| Fedora 37 (ARM) | PASS |
+-----------------------+----------------+
| Fedora 38 (ARM) | PASS |
+-----------------------+----------------+
| CentOS Stream 9 (ARM) | PASS |
+-----------------------+----------------+
Fedora 37 (ARM)
Kernel: Depends on container host
Compiler: gcc 12.3.1
Fedora 38 (ARM)
Kernel: Depends on container host
Compiler: gcc 13.1.1
CentOS Stream 9 (ARM)
Kernel: Container Host Kernel
Compiler: gcc 11.3.1
To view detailed results, visit:
https://lab.dpdk.org/results/dashboard/tarballs/26835/
UNH-IOL DPDK Community Lab
To manage your email subscriptions, visit:
https://lab.dpdk.org/results/dashboard/preferences/subscriptions/
More information about the test-report
mailing list