|SUCCESS| pw133873-133874 [PATCH] [v4,5/5] net/mvneta: fix possible
dpdklab at iol.unh.edu
dpdklab at iol.unh.edu
Sun Nov 5 08:30:43 CET 2023
Test-Label: iol-compile-amd64-testing
Test-Status: SUCCESS
http://dpdk.org/patch/133874
_Testing PASS_
Submitter: fengchengwen <fengchengwen at huawei.com>
Date: Sunday, November 05 2023 05:45:39
DPDK git baseline: Repo:dpdk
Branch: master
CommitID:495846c12bfe4efeb9a44af4d844b1515c17e5fb
133873-133874 --> testing pass
Test environment and result as below:
+---------------------+----------------------+--------------------+
| Environment | dpdk_mingw64_compile | dpdk_meson_compile |
+=====================+======================+====================+
| Windows Server 2019 | PASS | PASS |
+---------------------+----------------------+--------------------+
| FreeBSD 13 | SKIPPED | PASS |
+---------------------+----------------------+--------------------+
| CentOS Stream 8 | SKIPPED | PASS |
+---------------------+----------------------+--------------------+
| openSUSE Leap 15 | SKIPPED | PASS |
+---------------------+----------------------+--------------------+
| Debian Buster | SKIPPED | PASS |
+---------------------+----------------------+--------------------+
| Fedora 38 | SKIPPED | PASS |
+---------------------+----------------------+--------------------+
| Debian Bullseye | SKIPPED | PASS |
+---------------------+----------------------+--------------------+
| CentOS Stream 9 | SKIPPED | PASS |
+---------------------+----------------------+--------------------+
| Fedora 37 | SKIPPED | PASS |
+---------------------+----------------------+--------------------+
| RHEL8 | SKIPPED | PASS |
+---------------------+----------------------+--------------------+
Windows Server 2019
Kernel: 10.0
Compiler: clang 14.0 and gcc 8.1.0 (MinGW)
FreeBSD 13
Kernel: 13.0
Compiler: clang 11.0.1
CentOS Stream 8
Kernel: 4.18.0-240.10.1.el8_3.x86_64
Compiler: gcc 8.4.1 20200928
openSUSE Leap 15
Kernel: 4.18.0-240.10.1.el8_3.x86_64
Compiler: gcc 7.5.0
Debian Buster
Kernel: 5.4.0-122-generic
Compiler: gcc 8.3.0-6
Fedora 38
Kernel: Depends on container host
Compiler: clang 16.0.3
Debian Bullseye
Kernel: 5.4.0-122-generic
Compiler: gcc 10.2.1-6
CentOS Stream 9
Kernel: 4.18.0-240.10.1.el8_3.x86_64
Compiler: gcc 11.3.1 20220421
Fedora 37
Kernel: Depends on container host system
Compiler: gcc 12.3.1
RHEL8
Kernel: 4.18.0-240.10.1.el8_3.x86_64
Compiler: gcc 8.3.1 20191121 (Red Hat 8.3.1-5)
To view detailed results, visit:
https://lab.dpdk.org/results/dashboard/patchsets/28245/
UNH-IOL DPDK Community Lab
To manage your email subscriptions, visit:
https://lab.dpdk.org/results/dashboard/preferences/subscriptions/
More information about the test-report
mailing list