|SUCCESS| [GIT MASTER] 70aef239d0de6b2048aecb1220da1d78edb75168
    dpdklab at iol.unh.edu 
    dpdklab at iol.unh.edu
       
    Mon Nov  6 03:35:02 CET 2023
    
    
  
_Testing PASS_
Branch: dpdk
70aef239d0de6b2048aecb1220da1d78edb75168 --> testing pass
Test environment and result as below:
+-----------------------+---------------------------+----------------+
|      Environment      | cryptodev_sw_zuc_autotest | dpdk_unit_test |
+=======================+===========================+================+
| Debian 11 (arm)       | PASS                      | SKIPPED        |
+-----------------------+---------------------------+----------------+
| Fedora 38 (ARM)       | SKIPPED                   | PASS           |
+-----------------------+---------------------------+----------------+
| CentOS Stream 9 (ARM) | SKIPPED                   | PASS           |
+-----------------------+---------------------------+----------------+
| Fedora 37 (ARM)       | SKIPPED                   | PASS           |
+-----------------------+---------------------------+----------------+
Debian 11 (arm)
	Kernel: Container Host Kernel
	Compiler: gcc 10.2.1
Fedora 38 (ARM)
	Kernel: Depends on container host
	Compiler: gcc 13.1.1
CentOS Stream 9 (ARM)
	Kernel: Container Host Kernel
	Compiler: gcc 11.3.1
Fedora 37 (ARM)
	Kernel: Depends on container host
	Compiler: gcc 12.3.1
To view detailed results, visit:
https://lab.dpdk.org/results/dashboard/tarballs/26840/
UNH-IOL DPDK Community Lab
To manage your email subscriptions, visit: 
https://lab.dpdk.org/results/dashboard/preferences/subscriptions/
    
    
More information about the test-report
mailing list