|SUCCESS| [GIT MASTER] 70aef239d0de6b2048aecb1220da1d78edb75168

dpdklab at iol.unh.edu dpdklab at iol.unh.edu
Mon Nov 6 03:40:07 CET 2023


_Testing PASS_

Branch: dpdk

70aef239d0de6b2048aecb1220da1d78edb75168 --> testing pass

Test environment and result as below:

+--------------------------+---------------------------+----------------+--------------+
|       Environment        | cryptodev_sw_zuc_autotest | dpdk_unit_test | lpm_autotest |
+==========================+===========================+================+==============+
| Debian 11 (arm)          | PASS                      | SKIPPED        | SKIPPED      |
+--------------------------+---------------------------+----------------+--------------+
| Fedora 38 (ARM)          | SKIPPED                   | PASS           | SKIPPED      |
+--------------------------+---------------------------+----------------+--------------+
| CentOS Stream 9 (ARM)    | SKIPPED                   | PASS           | SKIPPED      |
+--------------------------+---------------------------+----------------+--------------+
| Fedora 37 (ARM)          | SKIPPED                   | PASS           | SKIPPED      |
+--------------------------+---------------------------+----------------+--------------+
| Debian 11 (Buster) (ARM) | SKIPPED                   | PASS           | SKIPPED      |
+--------------------------+---------------------------+----------------+--------------+
| Ubuntu 20.04 ARM SVE     | SKIPPED                   | SKIPPED        | PASS         |
+--------------------------+---------------------------+----------------+--------------+


Debian 11 (arm)
	Kernel: Container Host Kernel
	Compiler: gcc 10.2.1

Fedora 38 (ARM)
	Kernel: Depends on container host
	Compiler: gcc 13.1.1

CentOS Stream 9 (ARM)
	Kernel: Container Host Kernel
	Compiler: gcc 11.3.1

Fedora 37 (ARM)
	Kernel: Depends on container host
	Compiler: gcc 12.3.1

Debian 11 (Buster) (ARM)
	Kernel: Container Host Kernel
	Compiler: gcc 10.2.1

Ubuntu 20.04 ARM SVE
	Kernel: 5.4.0-80-generic
	Compiler: gcc 10.3.0 (Ubuntu 10.3.0-1ubuntu1~20.04)

To view detailed results, visit:
https://lab.dpdk.org/results/dashboard/tarballs/26840/

UNH-IOL DPDK Community Lab

To manage your email subscriptions, visit: 
https://lab.dpdk.org/results/dashboard/preferences/subscriptions/


More information about the test-report mailing list