|SUCCESS| pw133894-133896 [PATCH] [v3,7/7] doc: testpmd support even

dpdklab at iol.unh.edu dpdklab at iol.unh.edu
Mon Nov 6 15:36:25 CET 2023


Test-Label: iol-unit-arm64-testing
Test-Status: SUCCESS
http://dpdk.org/patch/133896

_Testing PASS_

Submitter: Chengwen Feng <fengchengwen at huawei.com>
Date: Monday, November 06 2023 13:11:27 
DPDK git baseline: Repo:dpdk
  Branch: master
  CommitID:70aef239d0de6b2048aecb1220da1d78edb75168

133894-133896 --> testing pass

Test environment and result as below:

+-----------------------+------------------------------+----------------+--------------+
|      Environment      | cryptodev_sw_snow3g_autotest | dpdk_unit_test | lpm_autotest |
+=======================+==============================+================+==============+
| Debian 11 (arm)       | PASS                         | SKIPPED        | SKIPPED      |
+-----------------------+------------------------------+----------------+--------------+
| CentOS Stream 9 (ARM) | SKIPPED                      | PASS           | SKIPPED      |
+-----------------------+------------------------------+----------------+--------------+
| Ubuntu 20.04 ARM SVE  | SKIPPED                      | SKIPPED        | PASS         |
+-----------------------+------------------------------+----------------+--------------+


Debian 11 (arm)
	Kernel: Container Host Kernel
	Compiler: gcc 10.2.1

CentOS Stream 9 (ARM)
	Kernel: Container Host Kernel
	Compiler: gcc 11.3.1

Ubuntu 20.04 ARM SVE
	Kernel: 5.4.0-80-generic
	Compiler: gcc 10.3.0 (Ubuntu 10.3.0-1ubuntu1~20.04)

To view detailed results, visit:
https://lab.dpdk.org/results/dashboard/patchsets/28254/

UNH-IOL DPDK Community Lab

To manage your email subscriptions, visit: 
https://lab.dpdk.org/results/dashboard/preferences/subscriptions/


More information about the test-report mailing list