|SUCCESS| pw133887 [PATCH] net/cpfl: fix coverity issues

dpdklab at iol.unh.edu dpdklab at iol.unh.edu
Mon Nov 6 15:52:16 CET 2023


Test-Label: iol-compile-amd64-testing
Test-Status: SUCCESS
http://dpdk.org/patch/133887

_Testing PASS_

Submitter: Wenjing Qiao <wenjing.qiao at intel.com>
Date: Monday, November 06 2023 09:59:34 
DPDK git baseline: Repo:dpdk
  Branch: master
  CommitID:70aef239d0de6b2048aecb1220da1d78edb75168

133887 --> testing pass

Test environment and result as below:

+---------------------+--------------------+----------------------+
|     Environment     | dpdk_meson_compile | dpdk_mingw64_compile |
+=====================+====================+======================+
| FreeBSD 13          | PASS               | SKIPPED              |
+---------------------+--------------------+----------------------+
| Windows Server 2019 | PASS               | PASS                 |
+---------------------+--------------------+----------------------+


FreeBSD 13
	Kernel: 13.0
	Compiler: clang 11.0.1

Windows Server 2019
	Kernel: 10.0
	Compiler: clang 14.0 and gcc 8.1.0 (MinGW)

To view detailed results, visit:
https://lab.dpdk.org/results/dashboard/patchsets/28251/

UNH-IOL DPDK Community Lab

To manage your email subscriptions, visit: 
https://lab.dpdk.org/results/dashboard/preferences/subscriptions/


More information about the test-report mailing list