|SUCCESS| pw133899 [PATCH] net/mvpp2: fix null dereference in vmwa r
dpdklab at iol.unh.edu
dpdklab at iol.unh.edu
Mon Nov 6 18:15:55 CET 2023
Test-Label: iol-compile-amd64-testing
Test-Status: SUCCESS
http://dpdk.org/patch/133899
_Testing PASS_
Submitter: Weiguo Li <liweiguo at xencore.cn>
Date: Saturday, November 04 2023 10:28:36
DPDK git baseline: Repo:dpdk
Branch: master
CommitID:70aef239d0de6b2048aecb1220da1d78edb75168
133899 --> testing pass
Test environment and result as below:
+---------------------+--------------------+----------------------+
| Environment | dpdk_meson_compile | dpdk_mingw64_compile |
+=====================+====================+======================+
| FreeBSD 13 | PASS | SKIPPED |
+---------------------+--------------------+----------------------+
| Windows Server 2019 | PASS | PASS |
+---------------------+--------------------+----------------------+
FreeBSD 13
Kernel: 13.0
Compiler: clang 11.0.1
Windows Server 2019
Kernel: 10.0
Compiler: clang 14.0 and gcc 8.1.0 (MinGW)
To view detailed results, visit:
https://lab.dpdk.org/results/dashboard/patchsets/28256/
UNH-IOL DPDK Community Lab
To manage your email subscriptions, visit:
https://lab.dpdk.org/results/dashboard/preferences/subscriptions/
More information about the test-report
mailing list