|SUCCESS| pw133900-133901 [PATCH] [v7,2/2] event/dlb2: fix disable P
    dpdklab at iol.unh.edu 
    dpdklab at iol.unh.edu
       
    Mon Nov  6 21:05:27 CET 2023
    
    
  
Test-Label: iol-unit-arm64-testing
Test-Status: SUCCESS
http://dpdk.org/patch/133901
_Testing PASS_
Submitter: Sevincer, Abdullah <abdullah.sevincer at intel.com>
Date: Monday, November 06 2023 17:05:21 
DPDK git baseline: Repo:dpdk
  Branch: master
  CommitID:70aef239d0de6b2048aecb1220da1d78edb75168
133900-133901 --> testing pass
Test environment and result as below:
+--------------------------+--------------+---------------------------+----------------+------------------------------+
|       Environment        | lpm_autotest | cryptodev_sw_zuc_autotest | dpdk_unit_test | cryptodev_sw_snow3g_autotest |
+==========================+==============+===========================+================+==============================+
| Ubuntu 20.04 ARM SVE     | PASS         | SKIPPED                   | SKIPPED        | SKIPPED                      |
+--------------------------+--------------+---------------------------+----------------+------------------------------+
| Debian 11 (arm)          | SKIPPED      | PASS                      | SKIPPED        | PASS                         |
+--------------------------+--------------+---------------------------+----------------+------------------------------+
| Debian 11 (Buster) (ARM) | SKIPPED      | SKIPPED                   | PASS           | SKIPPED                      |
+--------------------------+--------------+---------------------------+----------------+------------------------------+
| CentOS Stream 9 (ARM)    | SKIPPED      | SKIPPED                   | PASS           | SKIPPED                      |
+--------------------------+--------------+---------------------------+----------------+------------------------------+
| Fedora 38 (ARM)          | SKIPPED      | SKIPPED                   | PASS           | SKIPPED                      |
+--------------------------+--------------+---------------------------+----------------+------------------------------+
| Ubuntu 20.04 (ARM)       | SKIPPED      | SKIPPED                   | PASS           | SKIPPED                      |
+--------------------------+--------------+---------------------------+----------------+------------------------------+
Ubuntu 20.04 ARM SVE
	Kernel: 5.4.0-80-generic
	Compiler: gcc 10.3.0 (Ubuntu 10.3.0-1ubuntu1~20.04)
Debian 11 (arm)
	Kernel: Container Host Kernel
	Compiler: gcc 10.2.1
Debian 11 (Buster) (ARM)
	Kernel: Container Host Kernel
	Compiler: gcc 10.2.1
CentOS Stream 9 (ARM)
	Kernel: Container Host Kernel
	Compiler: gcc 11.3.1
Fedora 38 (ARM)
	Kernel: Depends on container host
	Compiler: gcc 13.1.1
Ubuntu 20.04 (ARM)
	Kernel: Container Host Kernel
	Compiler: gcc 9.4.0
To view detailed results, visit:
https://lab.dpdk.org/results/dashboard/patchsets/28257/
UNH-IOL DPDK Community Lab
To manage your email subscriptions, visit: 
https://lab.dpdk.org/results/dashboard/preferences/subscriptions/
    
    
More information about the test-report
mailing list