|SUCCESS| [GIT MASTER] 74006a8024efa4cb590d9c6b2f1f99eb9a697a76

dpdklab at iol.unh.edu dpdklab at iol.unh.edu
Tue Nov 7 01:34:46 CET 2023


_Testing PASS_

Branch: dpdk-next-net-intel

74006a8024efa4cb590d9c6b2f1f99eb9a697a76 --> testing pass

Test environment and result as below:

+-----------------+--------------------+
|   Environment   | dpdk_meson_compile |
+=================+====================+
| Debian Bullseye | PASS               |
+-----------------+--------------------+
| FreeBSD 13      | PASS               |
+-----------------+--------------------+
| Fedora 38       | PASS               |
+-----------------+--------------------+


Debian Bullseye
	Kernel: 5.4.0-122-generic
	Compiler: gcc 10.2.1-6

FreeBSD 13
	Kernel: 13.0
	Compiler: clang 11.0.1

Fedora 38
	Kernel: Depends on container host
	Compiler: gcc 13.1.1

To view detailed results, visit:
https://lab.dpdk.org/results/dashboard/tarballs/26852/

UNH-IOL DPDK Community Lab

To manage your email subscriptions, visit: 
https://lab.dpdk.org/results/dashboard/preferences/subscriptions/


More information about the test-report mailing list