|SUCCESS| [GIT MASTER] 74006a8024efa4cb590d9c6b2f1f99eb9a697a76
dpdklab at iol.unh.edu
dpdklab at iol.unh.edu
Tue Nov 7 01:37:43 CET 2023
_Testing PASS_
Branch: dpdk-next-net-intel
74006a8024efa4cb590d9c6b2f1f99eb9a697a76 --> testing pass
Test environment and result as below:
+--------------------------+----------------+
| Environment | dpdk_unit_test |
+==========================+================+
| Debian 11 (Buster) (ARM) | PASS |
+--------------------------+----------------+
| Fedora 37 (ARM) | PASS |
+--------------------------+----------------+
| CentOS Stream 9 (ARM) | PASS |
+--------------------------+----------------+
Debian 11 (Buster) (ARM)
Kernel: Container Host Kernel
Compiler: gcc 10.2.1
Fedora 37 (ARM)
Kernel: Depends on container host
Compiler: gcc 12.3.1
CentOS Stream 9 (ARM)
Kernel: Container Host Kernel
Compiler: gcc 11.3.1
To view detailed results, visit:
https://lab.dpdk.org/results/dashboard/tarballs/26852/
UNH-IOL DPDK Community Lab
To manage your email subscriptions, visit:
https://lab.dpdk.org/results/dashboard/preferences/subscriptions/
More information about the test-report
mailing list