|SUCCESS| pw133954-133959 [PATCH] [v3,7/7] hash: use abstracted bit

dpdklab at iol.unh.edu dpdklab at iol.unh.edu
Wed Nov 8 05:48:52 CET 2023


Test-Label: iol-unit-arm64-testing
Test-Status: SUCCESS
http://dpdk.org/patch/133959

_Testing PASS_

Submitter: Tyler Retzlaff <roretzla at linux.microsoft.com>
Date: Tuesday, November 07 2023 23:38:20 
DPDK git baseline: Repo:dpdk
  Branch: master
  CommitID:2bbad8f974e00552d106c27e1d157a31179ab5ec

133954-133959 --> testing pass

Test environment and result as below:

+--------------------------+--------------+----------------+------------------------------+---------------------------+
|       Environment        | lpm_autotest | dpdk_unit_test | cryptodev_sw_snow3g_autotest | cryptodev_sw_zuc_autotest |
+==========================+==============+================+==============================+===========================+
| Ubuntu 20.04 ARM SVE     | PASS         | SKIPPED        | SKIPPED                      | SKIPPED                   |
+--------------------------+--------------+----------------+------------------------------+---------------------------+
| Debian 11 (Buster) (ARM) | SKIPPED      | PASS           | SKIPPED                      | SKIPPED                   |
+--------------------------+--------------+----------------+------------------------------+---------------------------+
| CentOS Stream 9 (ARM)    | SKIPPED      | PASS           | SKIPPED                      | SKIPPED                   |
+--------------------------+--------------+----------------+------------------------------+---------------------------+
| Fedora 38 (ARM)          | SKIPPED      | PASS           | SKIPPED                      | SKIPPED                   |
+--------------------------+--------------+----------------+------------------------------+---------------------------+
| Ubuntu 20.04 (ARM)       | SKIPPED      | PASS           | SKIPPED                      | SKIPPED                   |
+--------------------------+--------------+----------------+------------------------------+---------------------------+
| Fedora 37 (ARM)          | SKIPPED      | PASS           | SKIPPED                      | SKIPPED                   |
+--------------------------+--------------+----------------+------------------------------+---------------------------+
| Debian 11 (arm)          | SKIPPED      | SKIPPED        | PASS                         | PASS                      |
+--------------------------+--------------+----------------+------------------------------+---------------------------+


Ubuntu 20.04 ARM SVE
	Kernel: 5.4.0-80-generic
	Compiler: gcc 10.3.0 (Ubuntu 10.3.0-1ubuntu1~20.04)

Debian 11 (Buster) (ARM)
	Kernel: Container Host Kernel
	Compiler: gcc 10.2.1

CentOS Stream 9 (ARM)
	Kernel: Container Host Kernel
	Compiler: gcc 11.3.1

Fedora 38 (ARM)
	Kernel: Depends on container host
	Compiler: gcc 13.1.1

Ubuntu 20.04 (ARM)
	Kernel: Container Host Kernel
	Compiler: gcc 9.4.0

Fedora 37 (ARM)
	Kernel: Depends on container host
	Compiler: gcc 12.3.1

Debian 11 (arm)
	Kernel: Container Host Kernel
	Compiler: gcc 10.2.1

To view detailed results, visit:
https://lab.dpdk.org/results/dashboard/patchsets/28277/

UNH-IOL DPDK Community Lab

To manage your email subscriptions, visit: 
https://lab.dpdk.org/results/dashboard/preferences/subscriptions/


More information about the test-report mailing list