|SUCCESS| pw133969 [PATCH] [v2] ethdev: account for smaller MTU when
    dpdklab at iol.unh.edu 
    dpdklab at iol.unh.edu
       
    Wed Nov  8 10:19:57 CET 2023
    
    
  
Test-Label: iol-unit-arm64-testing
Test-Status: SUCCESS
http://dpdk.org/patch/133969
_Testing PASS_
Submitter: Joshua Washington <joshwash at google.com>
Date: Wednesday, November 08 2023 06:05:34 
DPDK git baseline: Repo:dpdk
  Branch: master
  CommitID:2bbad8f974e00552d106c27e1d157a31179ab5ec
133969 --> testing pass
Test environment and result as below:
+--------------------------+------------------------------+---------------------------+----------------+
|       Environment        | cryptodev_sw_snow3g_autotest | cryptodev_sw_zuc_autotest | dpdk_unit_test |
+==========================+==============================+===========================+================+
| Debian 11 (arm)          | PASS                         | PASS                      | SKIPPED        |
+--------------------------+------------------------------+---------------------------+----------------+
| Debian 11 (Buster) (ARM) | SKIPPED                      | SKIPPED                   | PASS           |
+--------------------------+------------------------------+---------------------------+----------------+
| Fedora 38 (ARM)          | SKIPPED                      | SKIPPED                   | PASS           |
+--------------------------+------------------------------+---------------------------+----------------+
| CentOS Stream 9 (ARM)    | SKIPPED                      | SKIPPED                   | PASS           |
+--------------------------+------------------------------+---------------------------+----------------+
| Ubuntu 20.04 (ARM)       | SKIPPED                      | SKIPPED                   | PASS           |
+--------------------------+------------------------------+---------------------------+----------------+
Debian 11 (arm)
	Kernel: Container Host Kernel
	Compiler: gcc 10.2.1
Debian 11 (Buster) (ARM)
	Kernel: Container Host Kernel
	Compiler: gcc 10.2.1
Fedora 38 (ARM)
	Kernel: Depends on container host
	Compiler: gcc 13.1.1
CentOS Stream 9 (ARM)
	Kernel: Container Host Kernel
	Compiler: gcc 11.3.1
Ubuntu 20.04 (ARM)
	Kernel: Container Host Kernel
	Compiler: gcc 9.4.0
To view detailed results, visit:
https://lab.dpdk.org/results/dashboard/patchsets/28282/
UNH-IOL DPDK Community Lab
To manage your email subscriptions, visit: 
https://lab.dpdk.org/results/dashboard/preferences/subscriptions/
    
    
More information about the test-report
mailing list