|SUCCESS| pw133969 [PATCH] [v2] ethdev: account for smaller MTU when
    dpdklab at iol.unh.edu 
    dpdklab at iol.unh.edu
       
    Wed Nov  8 12:08:06 CET 2023
    
    
  
Test-Label: iol-unit-amd64-testing
Test-Status: SUCCESS
http://dpdk.org/patch/133969
_Testing PASS_
Submitter: Joshua Washington <joshwash at google.com>
Date: Wednesday, November 08 2023 06:05:34 
DPDK git baseline: Repo:dpdk
  Branch: master
  CommitID:2bbad8f974e00552d106c27e1d157a31179ab5ec
133969 --> testing pass
Test environment and result as below:
+------------------+----------------+
|   Environment    | dpdk_unit_test |
+==================+================+
| CentOS Stream 8  | PASS           |
+------------------+----------------+
| CentOS Stream 9  | PASS           |
+------------------+----------------+
| Debian Buster    | PASS           |
+------------------+----------------+
| Debian Bullseye  | PASS           |
+------------------+----------------+
| Fedora 38        | PASS           |
+------------------+----------------+
| openSUSE Leap 15 | PASS           |
+------------------+----------------+
CentOS Stream 8
	Kernel: 4.18.0-240.10.1.el8_3.x86_64
	Compiler: gcc 8.4.1 20200928
CentOS Stream 9
	Kernel: 4.18.0-240.10.1.el8_3.x86_64
	Compiler: gcc 11.3.1 20220421
Debian Buster
	Kernel: 5.4.0-122-generic
	Compiler: gcc 8.3.0-6
Debian Bullseye
	Kernel: 5.4.0-122-generic
	Compiler: gcc 10.2.1-6
Fedora 38
	Kernel: Depends on container host
	Compiler: gcc 13.1.1
openSUSE Leap 15
	Kernel: 4.18.0-240.10.1.el8_3.x86_64
	Compiler: gcc 7.5.0
To view detailed results, visit:
https://lab.dpdk.org/results/dashboard/patchsets/28282/
UNH-IOL DPDK Community Lab
To manage your email subscriptions, visit: 
https://lab.dpdk.org/results/dashboard/preferences/subscriptions/
    
    
More information about the test-report
mailing list