|SUCCESS| [GIT MASTER] 6de3135f1e2ec52d25505ae1ea3ef9a242ddcd5d

dpdklab at iol.unh.edu dpdklab at iol.unh.edu
Thu Nov 9 05:20:20 CET 2023


_Testing PASS_

Branch: tags/v21.11

6de3135f1e2ec52d25505ae1ea3ef9a242ddcd5d --> testing pass

Test environment and result as below:

+------------------+----------+
|   Environment    | abi_test |
+==================+==========+
| RHEL 7           | PASS     |
+------------------+----------+
| openSUSE Leap 15 | PASS     |
+------------------+----------+
| Fedora 38        | PASS     |
+------------------+----------+
| CentOS Stream 9  | PASS     |
+------------------+----------+


RHEL 7
	Kernel: 4.18.0-240.10.1.el8_3.x86_64
	Compiler: gcc 4.8.5 20150623 (Red Hat 4.8.5-44)

openSUSE Leap 15
	Kernel: 4.18.0-240.10.1.el8_3.x86_64
	Compiler: gcc 7.5.0

Fedora 38
	Kernel: Depends on container host
	Compiler: clang 16.0.3

CentOS Stream 9
	Kernel: 4.18.0-240.10.1.el8_3.x86_64
	Compiler: gcc 11.3.1 20220421

To view detailed results, visit:
https://lab.dpdk.org/results/dashboard/tarballs/26892/

UNH-IOL DPDK Community Lab

To manage your email subscriptions, visit: 
https://lab.dpdk.org/results/dashboard/preferences/subscriptions/


More information about the test-report mailing list