|SUCCESS| pw134017-134016 [PATCH] [RESEND,v7,3/3] ring: add telemetr

dpdklab at iol.unh.edu dpdklab at iol.unh.edu
Thu Nov 9 17:54:59 CET 2023


Test-Label: iol-unit-amd64-testing
Test-Status: SUCCESS
http://dpdk.org/patch/134016

_Testing PASS_

Submitter: Jie Hai <haijie1 at huawei.com>
Date: Thursday, November 09 2023 10:20:46 
DPDK git baseline: Repo:dpdk
  Branch: master
  CommitID:de0ec3c2458e3e2ce53e504c4ba92a36fcc78ef3

134017-134016 --> testing pass

Test environment and result as below:

+-----------------+----------------+
|   Environment   | dpdk_unit_test |
+=================+================+
| CentOS Stream 8 | PASS           |
+-----------------+----------------+
| Debian Buster   | PASS           |
+-----------------+----------------+
| CentOS Stream 9 | PASS           |
+-----------------+----------------+
| Fedora 37       | PASS           |
+-----------------+----------------+
| Fedora 38       | PASS           |
+-----------------+----------------+


CentOS Stream 8
	Kernel: 4.18.0-240.10.1.el8_3.x86_64
	Compiler: gcc 8.4.1 20200928

Debian Buster
	Kernel: 5.4.0-122-generic
	Compiler: gcc 8.3.0-6

CentOS Stream 9
	Kernel: 4.18.0-240.10.1.el8_3.x86_64
	Compiler: gcc 11.3.1 20220421

Fedora 37
	Kernel: Depends on container host system
	Compiler: gcc 12.3.1

Fedora 38
	Kernel: Depends on container host
	Compiler: gcc 13.1.1

To view detailed results, visit:
https://lab.dpdk.org/results/dashboard/patchsets/28299/

UNH-IOL DPDK Community Lab

To manage your email subscriptions, visit: 
https://lab.dpdk.org/results/dashboard/preferences/subscriptions/


More information about the test-report mailing list