|SUCCESS| [GIT MASTER] 147fb8a7be4382b5b1150d74cb7f10933ddf9d78
    dpdklab at iol.unh.edu 
    dpdklab at iol.unh.edu
       
    Thu Nov  9 20:34:37 CET 2023
    
    
  
_Testing PASS_
Branch: dpdk-next-net
147fb8a7be4382b5b1150d74cb7f10933ddf9d78 --> testing pass
Test environment and result as below:
+---------------------+--------------------+----------------------+
|     Environment     | dpdk_meson_compile | dpdk_mingw64_compile |
+=====================+====================+======================+
| FreeBSD 13          | PASS               | SKIPPED              |
+---------------------+--------------------+----------------------+
| Windows Server 2019 | PASS               | PASS                 |
+---------------------+--------------------+----------------------+
FreeBSD 13
	Kernel: 13.0
	Compiler: clang 11.0.1
Windows Server 2019
	Kernel: 10.0
	Compiler: clang 14.0 and gcc 8.1.0 (MinGW)
To view detailed results, visit:
https://lab.dpdk.org/results/dashboard/tarballs/26910/
UNH-IOL DPDK Community Lab
To manage your email subscriptions, visit: 
https://lab.dpdk.org/results/dashboard/preferences/subscriptions/
    
    
More information about the test-report
mailing list