|SUCCESS| [GIT MASTER] 147fb8a7be4382b5b1150d74cb7f10933ddf9d78

dpdklab at iol.unh.edu dpdklab at iol.unh.edu
Thu Nov 9 20:39:06 CET 2023


_Testing PASS_

Branch: dpdk-next-net

147fb8a7be4382b5b1150d74cb7f10933ddf9d78 --> testing pass

Test environment and result as below:

+--------------------------+------------------------------+----------------+
|       Environment        | cryptodev_sw_snow3g_autotest | dpdk_unit_test |
+==========================+==============================+================+
| Debian 11 (arm)          | PASS                         | SKIPPED        |
+--------------------------+------------------------------+----------------+
| Debian 11 (Buster) (ARM) | SKIPPED                      | PASS           |
+--------------------------+------------------------------+----------------+
| CentOS Stream 9 (ARM)    | SKIPPED                      | PASS           |
+--------------------------+------------------------------+----------------+


Debian 11 (arm)
	Kernel: Container Host Kernel
	Compiler: gcc 10.2.1

Debian 11 (Buster) (ARM)
	Kernel: Container Host Kernel
	Compiler: gcc 10.2.1

CentOS Stream 9 (ARM)
	Kernel: Container Host Kernel
	Compiler: gcc 11.3.1

To view detailed results, visit:
https://lab.dpdk.org/results/dashboard/tarballs/26910/

UNH-IOL DPDK Community Lab

To manage your email subscriptions, visit: 
https://lab.dpdk.org/results/dashboard/preferences/subscriptions/


More information about the test-report mailing list