|SUCCESS| [GIT MASTER] 147fb8a7be4382b5b1150d74cb7f10933ddf9d78
    dpdklab at iol.unh.edu 
    dpdklab at iol.unh.edu
       
    Thu Nov  9 21:37:20 CET 2023
    
    
  
_Testing PASS_
Branch: dpdk-next-net
147fb8a7be4382b5b1150d74cb7f10933ddf9d78 --> testing pass
Test environment and result as below:
+--------------------------+------------------------------+----------------+---------------------------+--------------+
|       Environment        | cryptodev_sw_snow3g_autotest | dpdk_unit_test | cryptodev_sw_zuc_autotest | lpm_autotest |
+==========================+==============================+================+===========================+==============+
| Debian 11 (arm)          | PASS                         | SKIPPED        | PASS                      | SKIPPED      |
+--------------------------+------------------------------+----------------+---------------------------+--------------+
| Debian 11 (Buster) (ARM) | SKIPPED                      | PASS           | SKIPPED                   | SKIPPED      |
+--------------------------+------------------------------+----------------+---------------------------+--------------+
| CentOS Stream 9 (ARM)    | SKIPPED                      | PASS           | SKIPPED                   | SKIPPED      |
+--------------------------+------------------------------+----------------+---------------------------+--------------+
| Fedora 38 (ARM)          | SKIPPED                      | PASS           | SKIPPED                   | SKIPPED      |
+--------------------------+------------------------------+----------------+---------------------------+--------------+
| Fedora 37 (ARM)          | SKIPPED                      | PASS           | SKIPPED                   | SKIPPED      |
+--------------------------+------------------------------+----------------+---------------------------+--------------+
| Ubuntu 20.04 (ARM)       | SKIPPED                      | PASS           | SKIPPED                   | SKIPPED      |
+--------------------------+------------------------------+----------------+---------------------------+--------------+
| Fedora 38 (ARM Clang)    | SKIPPED                      | PASS           | SKIPPED                   | SKIPPED      |
+--------------------------+------------------------------+----------------+---------------------------+--------------+
| Ubuntu 20.04 ARM SVE     | SKIPPED                      | SKIPPED        | SKIPPED                   | PASS         |
+--------------------------+------------------------------+----------------+---------------------------+--------------+
Debian 11 (arm)
	Kernel: Container Host Kernel
	Compiler: gcc 10.2.1
Debian 11 (Buster) (ARM)
	Kernel: Container Host Kernel
	Compiler: gcc 10.2.1
CentOS Stream 9 (ARM)
	Kernel: Container Host Kernel
	Compiler: gcc 11.3.1
Fedora 38 (ARM)
	Kernel: Depends on container host
	Compiler: gcc 13.1.1
Fedora 37 (ARM)
	Kernel: Depends on container host
	Compiler: gcc 12.3.1
Ubuntu 20.04 (ARM)
	Kernel: Container Host Kernel
	Compiler: gcc 9.4.0
Fedora 38 (ARM Clang)
	Kernel: Depends on container host
	Compiler: clang 16.0.3
Ubuntu 20.04 ARM SVE
	Kernel: 5.4.0-80-generic
	Compiler: gcc 10.3.0 (Ubuntu 10.3.0-1ubuntu1~20.04)
To view detailed results, visit:
https://lab.dpdk.org/results/dashboard/tarballs/26910/
UNH-IOL DPDK Community Lab
To manage your email subscriptions, visit: 
https://lab.dpdk.org/results/dashboard/preferences/subscriptions/
    
    
More information about the test-report
mailing list