|SUCCESS| [GIT MASTER] adeacf1d6f4d96e83857d6f445500d866f958863
dpdklab at iol.unh.edu
dpdklab at iol.unh.edu
Fri Nov 10 02:49:05 CET 2023
_Testing PASS_
Branch: dpdk-next-net-intel
adeacf1d6f4d96e83857d6f445500d866f958863 --> testing pass
Test environment and result as below:
+-----------------+----------------+
| Environment | dpdk_unit_test |
+=================+================+
| CentOS Stream 8 | PASS |
+-----------------+----------------+
| Debian Bullseye | PASS |
+-----------------+----------------+
| Debian Buster | PASS |
+-----------------+----------------+
| Fedora 37 | PASS |
+-----------------+----------------+
CentOS Stream 8
Kernel: 4.18.0-240.10.1.el8_3.x86_64
Compiler: gcc 8.4.1 20200928
Debian Bullseye
Kernel: 5.4.0-122-generic
Compiler: gcc 10.2.1-6
Debian Buster
Kernel: 5.4.0-122-generic
Compiler: gcc 8.3.0-6
Fedora 37
Kernel: Depends on container host system
Compiler: gcc 12.3.1
To view detailed results, visit:
https://lab.dpdk.org/results/dashboard/tarballs/26920/
UNH-IOL DPDK Community Lab
To manage your email subscriptions, visit:
https://lab.dpdk.org/results/dashboard/preferences/subscriptions/
More information about the test-report
mailing list