|SUCCESS| pw134047 [PATCH] [v3,1/1] dts: bind to DPDK driver before

dpdklab at iol.unh.edu dpdklab at iol.unh.edu
Fri Nov 10 05:48:45 CET 2023


Test-Label: iol-unit-amd64-testing
Test-Status: SUCCESS
http://dpdk.org/patch/134047

_Testing PASS_

Submitter: Jeremy Spewock <jspewock at iol.unh.edu>
Date: Thursday, November 09 2023 23:16:14 
DPDK git baseline: Repo:dpdk
  Branch: master
  CommitID:de0ec3c2458e3e2ce53e504c4ba92a36fcc78ef3

134047 --> testing pass

Test environment and result as below:

+-----------------+----------------+
|   Environment   | dpdk_unit_test |
+=================+================+
| CentOS Stream 9 | PASS           |
+-----------------+----------------+
| CentOS Stream 8 | PASS           |
+-----------------+----------------+
| Debian Bullseye | PASS           |
+-----------------+----------------+
| Debian Buster   | PASS           |
+-----------------+----------------+
| Ubuntu 22.04    | PASS           |
+-----------------+----------------+
| Fedora 37       | PASS           |
+-----------------+----------------+


CentOS Stream 9
	Kernel: 4.18.0-240.10.1.el8_3.x86_64
	Compiler: gcc 11.3.1 20220421

CentOS Stream 8
	Kernel: 4.18.0-240.10.1.el8_3.x86_64
	Compiler: gcc 8.4.1 20200928

Debian Bullseye
	Kernel: 5.4.0-122-generic
	Compiler: gcc 10.2.1-6

Debian Buster
	Kernel: 5.4.0-122-generic
	Compiler: gcc 8.3.0-6

Ubuntu 22.04
	Kernel: 4.18.0-240.10.1.el8_3.x86_64
	Compiler: gcc 11.3.0

Fedora 37
	Kernel: Depends on container host system
	Compiler: gcc 12.3.1

To view detailed results, visit:
https://lab.dpdk.org/results/dashboard/patchsets/28315/

UNH-IOL DPDK Community Lab

To manage your email subscriptions, visit: 
https://lab.dpdk.org/results/dashboard/preferences/subscriptions/


More information about the test-report mailing list