|SUCCESS| [GIT MASTER] 2a26b270c049f635c76673f94d21b2901c89c2e8

dpdklab at iol.unh.edu dpdklab at iol.unh.edu
Fri Nov 10 18:18:19 CET 2023


_Testing PASS_

Branch: dpdk-next-crypto

2a26b270c049f635c76673f94d21b2901c89c2e8 --> testing pass

Test environment and result as below:

+--------------------------+---------------------------+----------------+
|       Environment        | cryptodev_sw_zuc_autotest | dpdk_unit_test |
+==========================+===========================+================+
| Debian 11 (arm)          | PASS                      | SKIPPED        |
+--------------------------+---------------------------+----------------+
| CentOS Stream 9 (ARM)    | SKIPPED                   | PASS           |
+--------------------------+---------------------------+----------------+
| Debian 11 (Buster) (ARM) | SKIPPED                   | PASS           |
+--------------------------+---------------------------+----------------+


Debian 11 (arm)
	Kernel: Container Host Kernel
	Compiler: gcc 10.2.1

CentOS Stream 9 (ARM)
	Kernel: Container Host Kernel
	Compiler: gcc 11.3.1

Debian 11 (Buster) (ARM)
	Kernel: Container Host Kernel
	Compiler: gcc 10.2.1

To view detailed results, visit:
https://lab.dpdk.org/results/dashboard/tarballs/26940/

UNH-IOL DPDK Community Lab

To manage your email subscriptions, visit: 
https://lab.dpdk.org/results/dashboard/preferences/subscriptions/


More information about the test-report mailing list