|SUCCESS| pw134111-134110 [PATCH] [v2,3/3] app/testpmd: fix unnecess

dpdklab at iol.unh.edu dpdklab at iol.unh.edu
Sat Nov 11 08:05:11 CET 2023


Test-Label: iol-compile-amd64-testing
Test-Status: SUCCESS
http://dpdk.org/patch/134110

_Testing PASS_

Submitter: Huisong Li <lihuisong at huawei.com>
Date: Saturday, November 11 2023 04:59:43 
DPDK git baseline: Repo:dpdk
  Branch: master
  CommitID:fa6a754e746551382922c8be4db0e8f8e39bab40

134111-134110 --> testing pass

Test environment and result as below:

+---------------------+--------------------+----------------------+
|     Environment     | dpdk_meson_compile | dpdk_mingw64_compile |
+=====================+====================+======================+
| FreeBSD 13          | PASS               | SKIPPED              |
+---------------------+--------------------+----------------------+
| Windows Server 2019 | PASS               | PASS                 |
+---------------------+--------------------+----------------------+


FreeBSD 13
	Kernel: 13.0
	Compiler: clang 11.0.1

Windows Server 2019
	Kernel: 10.0
	Compiler: clang 14.0 and gcc 8.1.0 (MinGW)

To view detailed results, visit:
https://lab.dpdk.org/results/dashboard/patchsets/28333/

UNH-IOL DPDK Community Lab

To manage your email subscriptions, visit: 
https://lab.dpdk.org/results/dashboard/preferences/subscriptions/


More information about the test-report mailing list