|SUCCESS| [GIT MASTER] 6de3135f1e2ec52d25505ae1ea3ef9a242ddcd5d
    dpdklab at iol.unh.edu 
    dpdklab at iol.unh.edu
       
    Sat Nov 11 08:06:33 CET 2023
    
    
  
_Testing PASS_
Branch: tags/v21.11
6de3135f1e2ec52d25505ae1ea3ef9a242ddcd5d --> testing pass
Test environment and result as below:
+---------------+----------+
|  Environment  | abi_test |
+===============+==========+
| Debian Buster | PASS     |
+---------------+----------+
| Fedora 37     | PASS     |
+---------------+----------+
| Fedora 38     | PASS     |
+---------------+----------+
Debian Buster
	Kernel: 5.4.0-122-generic
	Compiler: gcc 8.3.0-6
Fedora 37
	Kernel: Depends on container host system
	Compiler: gcc 12.3.1
Fedora 38
	Kernel: Depends on container host
	Compiler: clang 16.0.3
To view detailed results, visit:
https://lab.dpdk.org/results/dashboard/tarballs/26945/
UNH-IOL DPDK Community Lab
To manage your email subscriptions, visit: 
https://lab.dpdk.org/results/dashboard/preferences/subscriptions/
    
    
More information about the test-report
mailing list