|SUCCESS| pw134118-134119 [PATCH] [v3,2/2] examples/l3fwd: relax the
dpdklab at iol.unh.edu
dpdklab at iol.unh.edu
Sun Nov 12 09:24:57 CET 2023
Test-Label: iol-unit-arm64-testing
Test-Status: SUCCESS
http://dpdk.org/patch/134119
_Testing PASS_
Submitter: Trevor Tao <taozj888 at 163.com>
Date: Sunday, November 12 2023 07:16:11
DPDK git baseline: Repo:dpdk
Branch: master
CommitID:fa6a754e746551382922c8be4db0e8f8e39bab40
134118-134119 --> testing pass
Test environment and result as below:
+--------------------------+---------------------------+------------------------------+----------------+
| Environment | cryptodev_sw_zuc_autotest | cryptodev_sw_snow3g_autotest | dpdk_unit_test |
+==========================+===========================+==============================+================+
| Debian 11 (arm) | PASS | PASS | SKIPPED |
+--------------------------+---------------------------+------------------------------+----------------+
| Fedora 37 (ARM) | SKIPPED | SKIPPED | PASS |
+--------------------------+---------------------------+------------------------------+----------------+
| CentOS Stream 9 (ARM) | SKIPPED | SKIPPED | PASS |
+--------------------------+---------------------------+------------------------------+----------------+
| Debian 11 (Buster) (ARM) | SKIPPED | SKIPPED | PASS |
+--------------------------+---------------------------+------------------------------+----------------+
| Fedora 38 (ARM) | SKIPPED | SKIPPED | PASS |
+--------------------------+---------------------------+------------------------------+----------------+
| Ubuntu 20.04 (ARM) | SKIPPED | SKIPPED | PASS |
+--------------------------+---------------------------+------------------------------+----------------+
Debian 11 (arm)
Kernel: Container Host Kernel
Compiler: gcc 10.2.1
Fedora 37 (ARM)
Kernel: Depends on container host
Compiler: gcc 12.3.1
CentOS Stream 9 (ARM)
Kernel: Container Host Kernel
Compiler: gcc 11.3.1
Debian 11 (Buster) (ARM)
Kernel: Container Host Kernel
Compiler: gcc 10.2.1
Fedora 38 (ARM)
Kernel: Depends on container host
Compiler: gcc 13.1.1
Ubuntu 20.04 (ARM)
Kernel: Container Host Kernel
Compiler: gcc 9.4.0
To view detailed results, visit:
https://lab.dpdk.org/results/dashboard/patchsets/28338/
UNH-IOL DPDK Community Lab
To manage your email subscriptions, visit:
https://lab.dpdk.org/results/dashboard/preferences/subscriptions/
More information about the test-report
mailing list