|SUCCESS| [GIT MASTER] 7849366693a2a2cbc5279a6bfd39cbb457fe7c96

dpdklab at iol.unh.edu dpdklab at iol.unh.edu
Mon Nov 13 06:54:07 CET 2023


_Testing PASS_

Branch: tags/v22.11

7849366693a2a2cbc5279a6bfd39cbb457fe7c96 --> testing pass

Test environment and result as below:

+--------------+----------+
| Environment  | abi_test |
+==============+==========+
| Fedora 38    | PASS     |
+--------------+----------+
| RHEL 7       | PASS     |
+--------------+----------+
| Ubuntu 22.04 | PASS     |
+--------------+----------+


Fedora 38
	Kernel: Depends on container host
	Compiler: gcc 13.1.1

RHEL 7
	Kernel: 4.18.0-240.10.1.el8_3.x86_64
	Compiler: gcc 4.8.5 20150623 (Red Hat 4.8.5-44)

Ubuntu 22.04
	Kernel: 4.18.0-240.10.1.el8_3.x86_64
	Compiler: gcc 11.3.0

To view detailed results, visit:
https://lab.dpdk.org/results/dashboard/tarballs/26955/

UNH-IOL DPDK Community Lab

To manage your email subscriptions, visit: 
https://lab.dpdk.org/results/dashboard/preferences/subscriptions/


More information about the test-report mailing list