|SUCCESS| pw134125 [PATCH] [v4] crypto/openssl: fix memory leaks in

dpdklab at iol.unh.edu dpdklab at iol.unh.edu
Mon Nov 13 09:35:25 CET 2023


Test-Label: iol-compile-arm64-testing
Test-Status: SUCCESS
http://dpdk.org/patch/134125

_Testing PASS_

Submitter: Gowrishankar Muthukrishnan <gmuthukrishn at marvell.com>
Date: Monday, November 13 2023 05:41:58 
DPDK git baseline: Repo:dpdk
  Branch: master
  CommitID:d677a3eb1b4e2d38c193fabd755dac30ee04c2df

134125 --> testing pass

Test environment and result as below:

+--------------------------------------+--------------------+
|             Environment              | dpdk_meson_compile |
+======================================+====================+
| Ubuntu 20.04 ARM SVE                 | PASS               |
+--------------------------------------+--------------------+
| Fedora 37 (ARM)                      | PASS               |
+--------------------------------------+--------------------+
| Debian 11 (Buster) (ARM)             | PASS               |
+--------------------------------------+--------------------+
| Ubuntu 20.04 (ARM)                   | PASS               |
+--------------------------------------+--------------------+
| CentOS Stream 9 (ARM)                | PASS               |
+--------------------------------------+--------------------+
| Ubuntu 20.04 ARM Clang Cross Compile | PASS               |
+--------------------------------------+--------------------+


Ubuntu 20.04 ARM SVE
	Kernel: 5.4.0-80-generic
	Compiler: gcc 10.3.0 (Ubuntu 10.3.0-1ubuntu1~20.04)

Fedora 37 (ARM)
	Kernel: Depends on container host
	Compiler: gcc 12.3.1

Debian 11 (Buster) (ARM)
	Kernel: Container Host Kernel
	Compiler: gcc 10.2.1

Ubuntu 20.04 (ARM)
	Kernel: Container Host Kernel
	Compiler: gcc 9.4.0

CentOS Stream 9 (ARM)
	Kernel: Container Host Kernel
	Compiler: gcc 11.3.1

Ubuntu 20.04 ARM Clang Cross Compile
	Kernel: 5.4.0-72-generic
	Compiler: clang version 10.0.0-4ubuntu1

To view detailed results, visit:
https://lab.dpdk.org/results/dashboard/patchsets/28341/

UNH-IOL DPDK Community Lab

To manage your email subscriptions, visit: 
https://lab.dpdk.org/results/dashboard/preferences/subscriptions/


More information about the test-report mailing list