|SUCCESS| pw134126 [PATCH] net/mlx5/hws: fix typo in the log
dpdklab at iol.unh.edu
dpdklab at iol.unh.edu
Mon Nov 13 11:30:44 CET 2023
Test-Label: iol-unit-arm64-testing
Test-Status: SUCCESS
http://dpdk.org/patch/134126
_Testing PASS_
Submitter: Bing Zhao <bingz at nvidia.com>
Date: Monday, November 13 2023 07:20:51
DPDK git baseline: Repo:dpdk
Branch: master
CommitID:d677a3eb1b4e2d38c193fabd755dac30ee04c2df
134126 --> testing pass
Test environment and result as below:
+--------------------------+----------------+
| Environment | dpdk_unit_test |
+==========================+================+
| Fedora 37 (ARM) | PASS |
+--------------------------+----------------+
| Debian 11 (Buster) (ARM) | PASS |
+--------------------------+----------------+
| CentOS Stream 9 (ARM) | PASS |
+--------------------------+----------------+
| Fedora 38 (ARM) | PASS |
+--------------------------+----------------+
Fedora 37 (ARM)
Kernel: Depends on container host
Compiler: gcc 12.3.1
Debian 11 (Buster) (ARM)
Kernel: Container Host Kernel
Compiler: gcc 10.2.1
CentOS Stream 9 (ARM)
Kernel: Container Host Kernel
Compiler: gcc 11.3.1
Fedora 38 (ARM)
Kernel: Depends on container host
Compiler: gcc 13.1.1
To view detailed results, visit:
https://lab.dpdk.org/results/dashboard/patchsets/28342/
UNH-IOL DPDK Community Lab
To manage your email subscriptions, visit:
https://lab.dpdk.org/results/dashboard/preferences/subscriptions/
More information about the test-report
mailing list