|SUCCESS| pw134155 [PATCH] net/mlx5: fix the LACP redirection in Rx
dpdklab at iol.unh.edu
dpdklab at iol.unh.edu
Mon Nov 13 15:13:39 CET 2023
Test-Label: iol-unit-arm64-testing
Test-Status: SUCCESS
http://dpdk.org/patch/134155
_Testing PASS_
Submitter: Bing Zhao <bingz at nvidia.com>
Date: Monday, November 13 2023 12:41:36
DPDK git baseline: Repo:dpdk-next-net-mlx
Branch: master
CommitID:57b791c357f0fcbfb4a6d9336374c509c1c1c7e9
134155 --> testing pass
Test environment and result as below:
+--------------------------+----------------+---------------------------+
| Environment | dpdk_unit_test | cryptodev_sw_zuc_autotest |
+==========================+================+===========================+
| CentOS Stream 9 (ARM) | PASS | SKIPPED |
+--------------------------+----------------+---------------------------+
| Fedora 37 (ARM) | PASS | SKIPPED |
+--------------------------+----------------+---------------------------+
| Debian 11 (Buster) (ARM) | PASS | SKIPPED |
+--------------------------+----------------+---------------------------+
| Ubuntu 20.04 (ARM) | PASS | SKIPPED |
+--------------------------+----------------+---------------------------+
| Debian 11 (arm) | SKIPPED | PASS |
+--------------------------+----------------+---------------------------+
CentOS Stream 9 (ARM)
Kernel: Container Host Kernel
Compiler: gcc 11.3.1
Fedora 37 (ARM)
Kernel: Depends on container host
Compiler: gcc 12.3.1
Debian 11 (Buster) (ARM)
Kernel: Container Host Kernel
Compiler: gcc 10.2.1
Ubuntu 20.04 (ARM)
Kernel: Container Host Kernel
Compiler: gcc 9.4.0
Debian 11 (arm)
Kernel: Container Host Kernel
Compiler: gcc 10.2.1
To view detailed results, visit:
https://lab.dpdk.org/results/dashboard/patchsets/28351/
UNH-IOL DPDK Community Lab
To manage your email subscriptions, visit:
https://lab.dpdk.org/results/dashboard/preferences/subscriptions/
More information about the test-report
mailing list