|SUCCESS| pw134162 [PATCH] app/test: don't count skipped tests as ex
    dpdklab at iol.unh.edu 
    dpdklab at iol.unh.edu
       
    Mon Nov 13 21:27:12 CET 2023
    
    
  
Test-Label: iol-unit-arm64-testing
Test-Status: SUCCESS
http://dpdk.org/patch/134162
_Testing PASS_
Submitter: Bruce Richardson <bruce.richardson at intel.com>
Date: Monday, November 13 2023 15:05:33 
DPDK git baseline: Repo:dpdk
  Branch: master
  CommitID:d677a3eb1b4e2d38c193fabd755dac30ee04c2df
134162 --> testing pass
Test environment and result as below:
+--------------------------+--------------+------------------------------+----------------+
|       Environment        | lpm_autotest | cryptodev_sw_snow3g_autotest | dpdk_unit_test |
+==========================+==============+==============================+================+
| Ubuntu 20.04 ARM SVE     | PASS         | SKIPPED                      | SKIPPED        |
+--------------------------+--------------+------------------------------+----------------+
| Debian 11 (arm)          | SKIPPED      | PASS                         | SKIPPED        |
+--------------------------+--------------+------------------------------+----------------+
| Debian 11 (Buster) (ARM) | SKIPPED      | SKIPPED                      | PASS           |
+--------------------------+--------------+------------------------------+----------------+
| CentOS Stream 9 (ARM)    | SKIPPED      | SKIPPED                      | PASS           |
+--------------------------+--------------+------------------------------+----------------+
| Fedora 37 (ARM)          | SKIPPED      | SKIPPED                      | PASS           |
+--------------------------+--------------+------------------------------+----------------+
Ubuntu 20.04 ARM SVE
	Kernel: 5.4.0-80-generic
	Compiler: gcc 10.3.0 (Ubuntu 10.3.0-1ubuntu1~20.04)
Debian 11 (arm)
	Kernel: Container Host Kernel
	Compiler: gcc 10.2.1
Debian 11 (Buster) (ARM)
	Kernel: Container Host Kernel
	Compiler: gcc 10.2.1
CentOS Stream 9 (ARM)
	Kernel: Container Host Kernel
	Compiler: gcc 11.3.1
Fedora 37 (ARM)
	Kernel: Depends on container host
	Compiler: gcc 12.3.1
To view detailed results, visit:
https://lab.dpdk.org/results/dashboard/patchsets/28356/
UNH-IOL DPDK Community Lab
To manage your email subscriptions, visit: 
https://lab.dpdk.org/results/dashboard/preferences/subscriptions/
    
    
More information about the test-report
mailing list