|SUCCESS| pw134166-134165 [PATCH] [v5,2/2] examples/l3fwd: relax RX

dpdklab at iol.unh.edu dpdklab at iol.unh.edu
Mon Nov 13 22:17:44 CET 2023


Test-Label: iol-unit-amd64-testing
Test-Status: SUCCESS
http://dpdk.org/patch/134165

_Testing PASS_

Submitter: Trevor Tao <taozj888 at 163.com>
Date: Monday, November 13 2023 16:11:35 
DPDK git baseline: Repo:dpdk
  Branch: master
  CommitID:d677a3eb1b4e2d38c193fabd755dac30ee04c2df

134166-134165 --> testing pass

Test environment and result as below:

+-----------------+----------------+
|   Environment   | dpdk_unit_test |
+=================+================+
| Debian Buster   | PASS           |
+-----------------+----------------+
| CentOS Stream 9 | PASS           |
+-----------------+----------------+
| Debian Bullseye | PASS           |
+-----------------+----------------+
| CentOS Stream 8 | PASS           |
+-----------------+----------------+
| Fedora 38       | PASS           |
+-----------------+----------------+
| Ubuntu 22.04    | PASS           |
+-----------------+----------------+


Debian Buster
	Kernel: 5.4.0-122-generic
	Compiler: gcc 8.3.0-6

CentOS Stream 9
	Kernel: 4.18.0-240.10.1.el8_3.x86_64
	Compiler: gcc 11.3.1 20220421

Debian Bullseye
	Kernel: 5.4.0-122-generic
	Compiler: gcc 10.2.1-6

CentOS Stream 8
	Kernel: 4.18.0-240.10.1.el8_3.x86_64
	Compiler: gcc 8.4.1 20200928

Fedora 38
	Kernel: Depends on container host
	Compiler: gcc 13.1.1

Ubuntu 22.04
	Kernel: 4.18.0-240.10.1.el8_3.x86_64
	Compiler: gcc 11.3.0

To view detailed results, visit:
https://lab.dpdk.org/results/dashboard/patchsets/28358/

UNH-IOL DPDK Community Lab

To manage your email subscriptions, visit: 
https://lab.dpdk.org/results/dashboard/preferences/subscriptions/


More information about the test-report mailing list