|SUCCESS| pw134176 [PATCH] net/mlx5: remove non constant size from t
    dpdklab at iol.unh.edu 
    dpdklab at iol.unh.edu
       
    Mon Nov 13 23:38:58 CET 2023
    
    
  
Test-Label: iol-unit-amd64-testing
Test-Status: SUCCESS
http://dpdk.org/patch/134176
_Testing PASS_
Submitter: Tyler Retzlaff <roretzla at linux.microsoft.com>
Date: Monday, November 13 2023 17:20:38 
DPDK git baseline: Repo:dpdk
  Branch: master
  CommitID:d677a3eb1b4e2d38c193fabd755dac30ee04c2df
134176 --> testing pass
Test environment and result as below:
+-----------------+----------------+
|   Environment   | dpdk_unit_test |
+=================+================+
| CentOS Stream 8 | PASS           |
+-----------------+----------------+
| Fedora 37       | PASS           |
+-----------------+----------------+
| CentOS Stream 9 | PASS           |
+-----------------+----------------+
CentOS Stream 8
	Kernel: 4.18.0-240.10.1.el8_3.x86_64
	Compiler: gcc 8.4.1 20200928
Fedora 37
	Kernel: Depends on container host system
	Compiler: gcc 12.3.1
CentOS Stream 9
	Kernel: 4.18.0-240.10.1.el8_3.x86_64
	Compiler: gcc 11.3.1 20220421
To view detailed results, visit:
https://lab.dpdk.org/results/dashboard/patchsets/28362/
UNH-IOL DPDK Community Lab
To manage your email subscriptions, visit: 
https://lab.dpdk.org/results/dashboard/preferences/subscriptions/
    
    
More information about the test-report
mailing list