|SUCCESS| pw134177 [PATCH] [v1] bus/pci: revise support PASID contro
    dpdklab at iol.unh.edu 
    dpdklab at iol.unh.edu
       
    Tue Nov 14 00:31:32 CET 2023
    
    
  
Test-Label: iol-unit-arm64-testing
Test-Status: SUCCESS
http://dpdk.org/patch/134177
_Testing PASS_
Submitter: Sevincer, Abdullah <abdullah.sevincer at intel.com>
Date: Monday, November 13 2023 17:27:59 
DPDK git baseline: Repo:dpdk
  Branch: master
  CommitID:d677a3eb1b4e2d38c193fabd755dac30ee04c2df
134177 --> testing pass
Test environment and result as below:
+--------------------------+--------------+---------------------------+----------------+------------------------------+
|       Environment        | lpm_autotest | cryptodev_sw_zuc_autotest | dpdk_unit_test | cryptodev_sw_snow3g_autotest |
+==========================+==============+===========================+================+==============================+
| Ubuntu 20.04 ARM SVE     | PASS         | SKIPPED                   | SKIPPED        | SKIPPED                      |
+--------------------------+--------------+---------------------------+----------------+------------------------------+
| Debian 11 (arm)          | SKIPPED      | PASS                      | SKIPPED        | PASS                         |
+--------------------------+--------------+---------------------------+----------------+------------------------------+
| Debian 11 (Buster) (ARM) | SKIPPED      | SKIPPED                   | PASS           | SKIPPED                      |
+--------------------------+--------------+---------------------------+----------------+------------------------------+
| CentOS Stream 9 (ARM)    | SKIPPED      | SKIPPED                   | PASS           | SKIPPED                      |
+--------------------------+--------------+---------------------------+----------------+------------------------------+
| Ubuntu 20.04 (ARM)       | SKIPPED      | SKIPPED                   | PASS           | SKIPPED                      |
+--------------------------+--------------+---------------------------+----------------+------------------------------+
Ubuntu 20.04 ARM SVE
	Kernel: 5.4.0-80-generic
	Compiler: gcc 10.3.0 (Ubuntu 10.3.0-1ubuntu1~20.04)
Debian 11 (arm)
	Kernel: Container Host Kernel
	Compiler: gcc 10.2.1
Debian 11 (Buster) (ARM)
	Kernel: Container Host Kernel
	Compiler: gcc 10.2.1
CentOS Stream 9 (ARM)
	Kernel: Container Host Kernel
	Compiler: gcc 11.3.1
Ubuntu 20.04 (ARM)
	Kernel: Container Host Kernel
	Compiler: gcc 9.4.0
To view detailed results, visit:
https://lab.dpdk.org/results/dashboard/patchsets/28363/
UNH-IOL DPDK Community Lab
To manage your email subscriptions, visit: 
https://lab.dpdk.org/results/dashboard/preferences/subscriptions/
    
    
More information about the test-report
mailing list