|SUCCESS| pw134375-134376 [PATCH] [v5,2/2] devtools: list symbols by

dpdklab at iol.unh.edu dpdklab at iol.unh.edu
Wed Nov 15 15:06:48 CET 2023


Test-Label: iol-unit-arm64-testing
Test-Status: SUCCESS
http://dpdk.org/patch/134376

_Testing PASS_

Submitter: David Marchand <david.marchand at redhat.com>
Date: Wednesday, November 15 2023 10:42:59 
DPDK git baseline: Repo:dpdk
  Branch: master
  CommitID:92d7ce4afc4a558f27bbc8368823c625f4e0f9dc

134375-134376 --> testing pass

Test environment and result as below:

+--------------------------+----------------+
|       Environment        | dpdk_unit_test |
+==========================+================+
| Debian 11 (Buster) (ARM) | PASS           |
+--------------------------+----------------+
| Fedora 37 (ARM)          | PASS           |
+--------------------------+----------------+
| CentOS Stream 9 (ARM)    | PASS           |
+--------------------------+----------------+


Debian 11 (Buster) (ARM)
	Kernel: Container Host Kernel
	Compiler: gcc 10.2.1

Fedora 37 (ARM)
	Kernel: Depends on container host
	Compiler: gcc 12.3.1

CentOS Stream 9 (ARM)
	Kernel: Container Host Kernel
	Compiler: gcc 11.3.1

To view detailed results, visit:
https://lab.dpdk.org/results/dashboard/patchsets/28384/

UNH-IOL DPDK Community Lab

To manage your email subscriptions, visit: 
https://lab.dpdk.org/results/dashboard/preferences/subscriptions/


More information about the test-report mailing list