|SUCCESS| [GIT MASTER] 9aefe12b4bdd7982d8fcf371218928f27f57d23a
dpdklab at iol.unh.edu
dpdklab at iol.unh.edu
Wed Nov 15 17:48:09 CET 2023
_Testing PASS_
Branch: dpdk-next-virtio
9aefe12b4bdd7982d8fcf371218928f27f57d23a --> testing pass
Test environment and result as below:
+--------------------------+----------------+
| Environment | dpdk_unit_test |
+==========================+================+
| CentOS Stream 9 (ARM) | PASS |
+--------------------------+----------------+
| Fedora 38 (ARM) | PASS |
+--------------------------+----------------+
| Debian 11 (Buster) (ARM) | PASS |
+--------------------------+----------------+
CentOS Stream 9 (ARM)
Kernel: Container Host Kernel
Compiler: gcc 11.3.1
Fedora 38 (ARM)
Kernel: Depends on container host
Compiler: gcc 13.1.1
Debian 11 (Buster) (ARM)
Kernel: Container Host Kernel
Compiler: gcc 10.2.1
To view detailed results, visit:
https://lab.dpdk.org/results/dashboard/tarballs/27007/
UNH-IOL DPDK Community Lab
To manage your email subscriptions, visit:
https://lab.dpdk.org/results/dashboard/preferences/subscriptions/
More information about the test-report
mailing list