|SUCCESS| pw134402 [PATCH] [v2] crypto/qat: fix gen3 legacy capabili
    dpdklab at iol.unh.edu 
    dpdklab at iol.unh.edu
       
    Wed Nov 15 20:25:32 CET 2023
    
    
  
Test-Label: iol-unit-amd64-testing
Test-Status: SUCCESS
http://dpdk.org/patch/134402
_Testing PASS_
Submitter: Power, Ciara <ciara.power at intel.com>
Date: Wednesday, November 15 2023 16:14:13 
DPDK git baseline: Repo:dpdk
  Branch: master
  CommitID:92d7ce4afc4a558f27bbc8368823c625f4e0f9dc
134402 --> testing pass
Test environment and result as below:
+---------------------+----------------+
|     Environment     | dpdk_unit_test |
+=====================+================+
| Windows Server 2019 | PASS           |
+---------------------+----------------+
| CentOS Stream 9     | PASS           |
+---------------------+----------------+
| CentOS Stream 8     | PASS           |
+---------------------+----------------+
| Debian Bullseye     | PASS           |
+---------------------+----------------+
| Fedora 37           | PASS           |
+---------------------+----------------+
| Debian Buster       | PASS           |
+---------------------+----------------+
Windows Server 2019
	Kernel: 10.0
	Compiler: clang 14.0 and gcc 8.1.0 (MinGW)
CentOS Stream 9
	Kernel: 4.18.0-240.10.1.el8_3.x86_64
	Compiler: gcc 11.3.1 20220421
CentOS Stream 8
	Kernel: 4.18.0-240.10.1.el8_3.x86_64
	Compiler: gcc 8.4.1 20200928
Debian Bullseye
	Kernel: 5.4.0-122-generic
	Compiler: gcc 10.2.1-6
Fedora 37
	Kernel: Depends on container host system
	Compiler: gcc 12.3.1
Debian Buster
	Kernel: 5.4.0-122-generic
	Compiler: gcc 8.3.0-6
To view detailed results, visit:
https://lab.dpdk.org/results/dashboard/patchsets/28389/
UNH-IOL DPDK Community Lab
To manage your email subscriptions, visit: 
https://lab.dpdk.org/results/dashboard/preferences/subscriptions/
    
    
More information about the test-report
mailing list